{"text_format":"2","workbook":"xlsx","n_sheets":5,"sheets":["Data1","Meetings","Race","Selections","Results"],"not_rendered":{"charts":0,"images":0,"macros":1,"external_links":0,"defined_names":1539,"comments":0,"pivot_tables":0},"unopened":[],"bounds":{"document_bytes":16777216,"sheet_cells":100000,"run_cost":"one","rows_first":2000,"rows_last":500,"rows_between":2000,"halvings":0,"cell_chars":16384,"cell_head_chars":4096},"cells_cut":0,"cells_raw":0,"read":"whole","date_system":"1900"}

{"sheet":"Data1","index":0,"n_rows":45,"n_cols":31,"rows_kept":45,"cut":false,"hidden":false,"merged":[]}
[{"$f":"Selections!A2","v":"WANGARATTA "},{"$f":"Selections!C2","v":9},{"$f":"IF(Race!D2=\"Paying\",\"Paying\",\"\")","v":""},{"$f":"IF(ISERROR(LEFT(Race!H5,FIND(\"(\",Race!H5,1)-1)),Race!H5,LEFT(Race!H5,FIND(\"(\",Race!H5,1)-1))","v":"HEAVY"},"2012-02-20",null,{"$f":"IF(ISNA(VLOOKUP(A1,F2:Q40,B1+2,FALSE)),\"\",VLOOKUP(A1,F2:Q40,B1+2,FALSE))","v":""},{"$nulls":14},{"$f":"A1","v":"WANGARATTA "},null,{"$f":"B1","v":9},{"$f":"A3","v":10},{"$f":"B3","v":"WOMBAT WOO WOO"},null,{"$f":"D3","v":3},{"$f":"E3","v":""},{"$f":"IF(C1<>\"\",IF(ISNA(VLOOKUP(Z1,Data1!$C$3:$E$5,2,FALSE)),\"\",(VLOOKUP(Z1,Data1!$C$3:$E$5,2,FALSE))),\"\")","v":""},{"$f":"IF(C1<>\"\",IF(ISNA(VLOOKUP(Z1,Data1!$C$3:$E$5,1,FALSE)),\"\",(VLOOKUP(Z1,Data1!$C$3:$E$5,3,FALSE))),\"\")","v":""}]
[{"$f":"MIN(A9:A35)","v":3},{"$f":"IF(ISNA(VLOOKUP($C$4,$C$10:$D$40,2,FALSE)),\"\",(VLOOKUP($C$4,$C$10:$D$40,2,FALSE)))","v":""},null,null,null,{"$f":"IF(G2=\"\",\"\",IF(ISERROR(LEFT(G2,FIND(\"(\",G2,1)-1)),\"\",LEFT(G2,FIND(\"(\",G2,1)-1)))","v":"GRAFTON "},{"$f":"IF(Meetings!B3=\"\",\"\",Meetings!B3)","v":"GRAFTON (NR)"},{"$f":"IF(Meetings!D3=\"\",\"\",getAddress(Meetings!D3))","v":"http://www.tabonline.com.au/2012/02/20/NR01.html"},{"$f":"IF(Meetings!E3=\"\",\"\",getAddress(Meetings!E3))","v":"http://www.tabonline.com.au/2012/02/20/NR02.html"},{"$f":"IF(Meetings!F3=\"\",\"\",getAddress(Meetings!F3))","v":"http://www.tabonline.com.au/2012/02/20/NR03.html"},{"$f":"IF(Meetings!G3=\"\",\"\",getAddress(Meetings!G3))","v":"http://www.tabonline.com.au/2012/02/20/NR04.html"},{"$f":"IF(Meetings!H3=\"\",\"\",getAddress(Meetings!H3))","v":"http://www.tabonline.com.au/2012/02/20/NR05.html"},{"$f":"IF(Meetings!I3=\"\",\"\",getAddress(Meetings!I3))","v":"http://www.tabonline.com.au/2012/02/20/NR06.html"},{"$f":"IF(Meetings!J3=\"\",\"\",getAddress(Meetings!J3))","v":"http://www.tabonline.com.au/2012/02/20/NR07.html"},{"$f":"IF(Meetings!K3=\"\",\"\",getAddress(Meetings!K3))","v":"http://www.tabonline.com.au/2012/02/20/NR08.html"},{"$f":"IF(Meetings!L3=\"\",\"\",getAddress(Meetings!L3))","v":""},null,{"$f":"IF(Meetings!N3=\"\",\"\",getAddress(Meetings!N3))","v":""},{"$f":"IF(Meetings!O3=\"\",\"\",getAddress(Meetings!O3))","v":""},null,{"$f":"COUNTA(Meetings!D3:'Meetings'!O3)","v":8}]
[{"$f":"IF(ISNA(VLOOKUP($A$2,$A$7:$D$40,2,FALSE)),\"\",(VLOOKUP($A$2,$A$7:$D$40,2,FALSE)))","v":10},{"$f":"IF(ISNA(VLOOKUP($A$2,$A$7:$D$40,3,FALSE)),\"\",(VLOOKUP($A$2,$A$7:$D$40,3,FALSE)))","v":"WOMBAT WOO WOO"},null,{"$f":"IF(ISNA(VLOOKUP($A$2,$A$7:$D$40,4,FALSE)),\"\",(VLOOKUP($A$2,$A$7:$D$40,4,FALSE)))","v":3},{"$f":"IF(A2=B2,D4,\"\")","v":""},{"$f":"IF(H3=\"\",\"\",IF(ISERROR(LEFT(G3,FIND(\"(\",G3,1)-1)),\"\",LEFT(G3,FIND(\"(\",G3,1)-1)))","v":"WANGARATTA "},{"$f":"IF(Meetings!B4=\"\",\"\",Meetings!B4)","v":"WANGARATTA (VR)"},{"$f":"IF(Meetings!D4=\"\",\"\",getAddress(Meetings!D4))","v":"http://www.tabonline.com.au/2012/02/20/VR01.html"},{"$f":"IF(Meetings!E4=\"\",\"\",getAddress(Meetings!E4))","v":"http://www.tabonline.com.au/2012/02/20/VR02.html"},{"$f":"IF(Meetings!F4=\"\",\"\",getAddress(Meetings!F4))","v":"http://www.tabonline.com.au/2012/02/20/VR03.html"},{"$f":"IF(Meetings!G4=\"\",\"\",getAddress(Meetings!G4))","v":"http://www.tabonline.com.au/2012/02/20/VR04.html"},{"$f":"IF(Meetings!H4=\"\",\"\",getAddress(Meetings!H4))","v":"http://www.tabonline.com.au/2012/02/20/VR05.html"},{"$f":"IF(Meetings!I4=\"\",\"\",getAddress(Meetings!I4))","v":"http://www.tabonline.com.au/2012/02/20/VR06.html"},{"$f":"IF(Meetings!J4=\"\",\"\",getAddress(Meetings!J4))","v":"http://www.tabonline.com.au/2012/02/20/VR07.html"},{"$f":"IF(Meetings!K4=\"\",\"\",getAddress(Meetings!K4))","v":"http://www.tabonline.com.au/2012/02/20/VR08.html"},{"$f":"IF(Meetings!L4=\"\",\"\",getAddress(Meetings!L4))","v":""},{"$f":"IF(Meetings!M4=\"\",\"\",getAddress(Meetings!M4))","v":""},{"$f":"IF(Meetings!N4=\"\",\"\",getAddress(Meetings!N4))","v":""},"",null,{"$f":"COUNTA(Meetings!D4:'Meetings'!O4)","v":8}]
[null,null,{"$f":"IF($C$1<>\"\",INDEX(Race!$A$1:$C20,MATCH(\"QN\",Race!$A1:$A$20,0)-4,3),\"\")","v":""},{"$f":"IF(ISNA(VLOOKUP(C4,Race!$C$2:$E$15,2,FALSE)),\"\",(VLOOKUP(C4,Race!$C$2:$E$15,2,FALSE)))","v":""},{"$f":"IF(ISNA(VLOOKUP(C4,Race!$C$2:$E$15,3,FALSE)),\"\",(VLOOKUP(C4,Race!$C$2:$E$15,3,FALSE)))","v":""},{"$f":"IF(H4=\"\",\"\",IF(ISERROR(LEFT(G4,FIND(\"(\",G4,1)-1)),\"\",LEFT(G4,FIND(\"(\",G4,1)-1)))","v":""},{"$f":"IF(Meetings!B5=\"\",\"\",Meetings!B5)","v":"FLAMINGO PARK (AS)"},{"$f":"IF(Meetings!D5=\"\",\"\",getAddress(Meetings!D5))","v":""},{"$f":"IF(Meetings!E5=\"\",\"\",getAddress(Meetings!E5))","v":""},{"$f":"IF(Meetings!F5=\"\",\"\",getAddress(Meetings!F5))","v":""},{"$f":"IF(Meetings!G5=\"\",\"\",getAddress(Meetings!G5))","v":""},{"$f":"IF(Meetings!H5=\"\",\"\",getAddress(Meetings!H5))","v":"http://www.tabonline.com.au/2012/02/20/AS05.html"},{"$f":"IF(Meetings!I5=\"\",\"\",getAddress(Meetings!I5))","v":"http://www.tabonline.com.au/2012/02/20/AS06.html"},{"$f":"IF(Meetings!J5=\"\",\"\",getAddress(Meetings!J5))","v":"http://www.tabonline.com.au/2012/02/20/AS07.html"},{"$f":"IF(Meetings!K5=\"\",\"\",getAddress(Meetings!K5))","v":"http://www.tabonline.com.au/2012/02/20/AS08.html"},{"$f":"IF(Meetings!L5=\"\",\"\",getAddress(Meetings!L5))","v":"http://www.tabonline.com.au/2012/02/20/AS09.html"},{"$f":"IF(Meetings!M5=\"\",\"\",getAddress(Meetings!M5))","v":""},{"$f":"IF(Meetings!N5=\"\",\"\",getAddress(Meetings!N5))","v":""},"",null,{"$f":"COUNTA(Meetings!D5:'Meetings'!O5)","v":5}]
[null,null,{"$f":"IF($C$1<>\"\",INDEX(Race!$A$1:$C21,MATCH(\"QN\",Race!$A2:$A$20,0)-2,3),\"\")","v":""},{"$f":"IF(ISNA(VLOOKUP(C5,Race!$C$2:$E$15,2,FALSE)),\"\",(VLOOKUP(C5,Race!$C$2:$E$15,2,FALSE)))","v":""},{"$f":"IF(ISNA(VLOOKUP(C5,Race!$C$2:$E$15,3,FALSE)),\"\",(VLOOKUP(C5,Race!$C$2:$E$15,3,FALSE)))","v":""},"UK ",{"$f":"IF(Meetings!B6=\"\",\"\",Meetings!B6)","v":"UK (CS)"},{"$f":"IF(Meetings!D6=\"\",\"\",getAddress(Meetings!D6))","v":"http://www.tabonline.com.au/2012/02/20/CS01.html"},{"$f":"IF(Meetings!E6=\"\",\"\",getAddress(Meetings!E6))","v":"http://www.tabonline.com.au/2012/02/20/CS02.html"},{"$f":"IF(Meetings!F6=\"\",\"\",getAddress(Meetings!F6))","v":""},{"$f":"IF(Meetings!G6=\"\",\"\",getAddress(Meetings!G6))","v":""},{"$f":"IF(Meetings!H6=\"\",\"\",getAddress(Meetings!H6))","v":""},{"$f":"IF(Meetings!I6=\"\",\"\",getAddress(Meetings!I6))","v":""},{"$f":"IF(Meetings!J6=\"\",\"\",getAddress(Meetings!J6))","v":""},{"$f":"IF(Meetings!K6=\"\",\"\",getAddress(Meetings!K6))","v":""},{"$f":"IF(Meetings!L6=\"\",\"\",getAddress(Meetings!L6))","v":""},{"$f":"IF(Meetings!M6=\"\",\"\",getAddress(Meetings!M6))","v":""},{"$f":"IF(Meetings!N6=\"\",\"\",getAddress(Meetings!N6))","v":""},"",null,{"$f":"COUNTA(Meetings!D6:'Meetings'!O6)","v":2}]
[null,null,{"$f":"IF($C$1<>\"\",INDEX(Race!$A$1:$C22,MATCH(\"QN\",Race!$A3:$A$20,0)-0,3),\"\")","v":""},{"$f":"IF(ISNA(VLOOKUP(C6,Race!$C$2:$E$15,2,FALSE)),\"\",(VLOOKUP(C6,Race!$C$2:$E$15,2,FALSE)))","v":""},{"$f":"IF(ISNA(VLOOKUP(C6,Race!$C$2:$E$15,3,FALSE)),\"\",(VLOOKUP(C6,Race!$C$2:$E$15,3,FALSE)))","v":""},"WOLVERHAMPTON ",{"$f":"IF(Meetings!B7=\"\",\"\",Meetings!B7)","v":"WOLVERHAMPTON (ES)"},{"$f":"IF(Meetings!D7=\"\",\"\",getAddress(Meetings!D7))","v":"http://www.tabonline.com.au/2012/02/20/ES01.html"},{"$f":"IF(Meetings!E7=\"\",\"\",getAddress(Meetings!E7))","v":"http://www.tabonline.com.au/2012/02/20/ES02.html"},{"$f":"IF(Meetings!F7=\"\",\"\",getAddress(Meetings!F7))","v":""},{"$f":"IF(Meetings!G7=\"\",\"\",getAddress(Meetings!G7))","v":""},{"$f":"IF(Meetings!H7=\"\",\"\",getAddress(Meetings!H7))","v":""},{"$f":"IF(Meetings!I7=\"\",\"\",getAddress(Meetings!I7))","v":""},{"$f":"IF(Meetings!J7=\"\",\"\",getAddress(Meetings!J7))","v":""},{"$f":"IF(Meetings!K7=\"\",\"\",getAddress(Meetings!K7))","v":""},{"$f":"IF(Meetings!L7=\"\",\"\",getAddress(Meetings!L7))","v":""},{"$f":"IF(Meetings!M7=\"\",\"\",getAddress(Meetings!M7))","v":""},{"$f":"IF(Meetings!N7=\"\",\"\",getAddress(Meetings!N7))","v":""},"",null,{"$f":"COUNTA(Meetings!D7:'Meetings'!O7)","v":2}]
[{"$f":"IF(C7<>\"\",Race!N5,\"\")","v":""},{"$f":"IF(Race!N5=\"\",\"\",IF(Race!A5=\"No.\",\"\",(CLEAN(TRIM(Race!A5)))+0))","v":""},{"$f":"IF(Race!N5<>\"\",(CLEAN(TRIM(Race!C5))),\"\")","v":""},{"$f":"IF(C7<>\"\",Race!I5,\"\")","v":""},null,{"$error":"#VALUE!"},{"$f":"IF(Meetings!B8=\"\",\"\",Meetings!B8)","v":""},{"$f":"IF(Meetings!D8=\"\",\"\",getAddress(Meetings!D8))","v":{"$error":"#VALUE!"}},{"$f":"IF(Meetings!E8=\"\",\"\",getAddress(Meetings!E8))","v":{"$error":"#VALUE!"}},{"$f":"IF(Meetings!F8=\"\",\"\",getAddress(Meetings!F8))","v":{"$error":"#VALUE!"}},{"$f":"IF(Meetings!G8=\"\",\"\",getAddress(Meetings!G8))","v":{"$error":"#VALUE!"}},{"$f":"IF(Meetings!H8=\"\",\"\",getAddress(Meetings!H8))","v":{"$error":"#VALUE!"}},{"$f":"IF(Meetings!I8=\"\",\"\",getAddress(Meetings!I8))","v":{"$error":"#VALUE!"}},{"$f":"IF(Meetings!J8=\"\",\"\",getAddress(Meetings!J8))","v":{"$error":"#VALUE!"}},{"$f":"IF(Meetings!K8=\"\",\"\",getAddress(Meetings!K8))","v":{"$error":"#VALUE!"}},{"$f":"IF(Meetings!L8=\"\",\"\",getAddress(Meetings!L8))","v":{"$error":"#VALUE!"}},{"$f":"IF(Meetings!M8=\"\",\"\",getAddress(Meetings!M8))","v":{"$error":"#VALUE!"}},{"$f":"IF(Meetings!N8=\"\",\"\",getAddress(Meetings!N8))","v":{"$error":"#VALUE!"}},"",null,{"$f":"COUNTA(Meetings!D8:'Meetings'!O8)","v":12}]
[{"$f":"IF(C8<>\"\",Race!N6,\"\")","v":"Rtng"},{"$f":"IF(Race!N6=\"\",\"\",IF(Race!A6=\"No.\",\"\",(CLEAN(TRIM(Race!A6)))+0))","v":""},{"$f":"IF(Race!N6<>\"\",(CLEAN(TRIM(Race!C6))),\"\")","v":"Name"},{"$f":"IF(C8<>\"\",Race!I6,\"\")","v":"Bar"},null,"MENANGLE ",{"$f":"IF(Meetings!B9=\"\",\"\",Meetings!B9)","v":"MENANGLE (ST)"},{"$f":"IF(Meetings!D9=\"\",\"\",getAddress(Meetings!D9))","v":"http://www.tabonline.com.au/2012/02/20/ST01.html"},{"$f":"IF(Meetings!E9=\"\",\"\",getAddress(Meetings!E9))","v":"http://www.tabonline.com.au/2012/02/20/ST02.html"},{"$f":"IF(Meetings!F9=\"\",\"\",getAddress(Meetings!F9))","v":"http://www.tabonline.com.au/2012/02/20/ST03.html"},{"$f":"IF(Meetings!G9=\"\",\"\",getAddress(Meetings!G9))","v":"http://www.tabonline.com.au/2012/02/20/ST04.html"},{"$f":"IF(Meetings!H9=\"\",\"\",getAddress(Meetings!H9))","v":"http://www.tabonline.com.au/2012/02/20/ST05.html"},{"$f":"IF(Meetings!I9=\"\",\"\",getAddress(Meetings!I9))","v":"http://www.tabonline.com.au/2012/02/20/ST06.html"},{"$f":"IF(Meetings!J9=\"\",\"\",getAddress(Meetings!J9))","v":"http://www.tabonline.com.au/2012/02/20/ST07.html"},{"$f":"IF(Meetings!K9=\"\",\"\",getAddress(Meetings!K9))","v":"http://www.tabonline.com.au/2012/02/20/ST08.html"},{"$f":"IF(Meetings!L9=\"\",\"\",getAddress(Meetings!L9))","v":""},{"$f":"IF(Meetings!M9=\"\",\"\",getAddress(Meetings!M9))","v":""},{"$f":"IF(Meetings!N9=\"\",\"\",getAddress(Meetings!N9))","v":""},"",null,{"$f":"COUNTA(Meetings!D9:'Meetings'!O9)","v":8}]
[{"$f":"IF(C9<>\"\",Race!I7,\"\")","v":""},{"$f":"IF(Race!N7=\"\",\"\",IF(Race!A7=\"No.\",\"\",(CLEAN(TRIM(Race!A7)))+0))","v":""},{"$f":"IF(Race!N7<>\"\",(CLEAN(TRIM(Race!C7))),\"\")","v":""},{"$f":"IF(C9<>\"\",Race!I7,\"\")","v":""},null,"STAWELL ",{"$f":"IF(Meetings!B10=\"\",\"\",Meetings!B10)","v":"STAWELL (VT)"},{"$f":"IF(Meetings!D10=\"\",\"\",getAddress(Meetings!D10))","v":"http://www.tabonline.com.au/2012/02/20/VT01.html"},{"$f":"IF(Meetings!E10=\"\",\"\",getAddress(Meetings!E10))","v":"http://www.tabonline.com.au/2012/02/20/VT02.html"},{"$f":"IF(Meetings!F10=\"\",\"\",getAddress(Meetings!F10))","v":"http://www.tabonline.com.au/2012/02/20/VT03.html"},{"$f":"IF(Meetings!G10=\"\",\"\",getAddress(Meetings!G10))","v":"http://www.tabonline.com.au/2012/02/20/VT04.html"},{"$f":"IF(Meetings!H10=\"\",\"\",getAddress(Meetings!H10))","v":"http://www.tabonline.com.au/2012/02/20/VT05.html"},{"$f":"IF(Meetings!I10=\"\",\"\",getAddress(Meetings!I10))","v":"http://www.tabonline.com.au/2012/02/20/VT06.html"},{"$f":"IF(Meetings!J10=\"\",\"\",getAddress(Meetings!J10))","v":"http://www.tabonline.com.au/2012/02/20/VT07.html"},{"$f":"IF(Meetings!K10=\"\",\"\",getAddress(Meetings!K10))","v":""},{"$f":"IF(Meetings!L10=\"\",\"\",getAddress(Meetings!L10))","v":""},{"$f":"IF(Meetings!M10=\"\",\"\",getAddress(Meetings!M10))","v":""},{"$f":"IF(Meetings!N10=\"\",\"\",getAddress(Meetings!N10))","v":""},"",null,{"$f":"COUNTA(Meetings!D10:'Meetings'!O10)","v":7}]
[{"$f":"IF(C10<>\"\",Race!I8,\"\")","v":7},{"$f":"IF(Race!N8=\"\",\"\",IF(Race!A8=\"No.\",\"\",(CLEAN(TRIM(Race!A8)))+0))","v":2},{"$f":"IF(Race!N8<>\"\",(CLEAN(TRIM(Race!C8))),\"\")","v":"LORD OF THE SONG"},{"$f":"IF(C10<>\"\",Race!I8,\"\")","v":7},null,"GLOBE DERBY ",{"$f":"IF(Meetings!B11=\"\",\"\",Meetings!B11)","v":"GLOBE DERBY (AT)"},{"$f":"IF(Meetings!D11=\"\",\"\",getAddress(Meetings!D11))","v":"http://www.tabonline.com.au/2012/02/20/AT01.html"},{"$f":"IF(Meetings!E11=\"\",\"\",getAddress(Meetings!E11))","v":"http://www.tabonline.com.au/2012/02/20/AT02.html"},{"$f":"IF(Meetings!F11=\"\",\"\",getAddress(Meetings!F11))","v":"http://www.tabonline.com.au/2012/02/20/AT03.html"},{"$f":"IF(Meetings!G11=\"\",\"\",getAddress(Meetings!G11))","v":"http://www.tabonline.com.au/2012/02/20/AT04.html"},{"$f":"IF(Meetings!H11=\"\",\"\",getAddress(Meetings!H11))","v":"http://www.tabonline.com.au/2012/02/20/AT05.html"},{"$f":"IF(Meetings!I11=\"\",\"\",getAddress(Meetings!I11))","v":"http://www.tabonline.com.au/2012/02/20/AT06.html"},{"$f":"IF(Meetings!J11=\"\",\"\",getAddress(Meetings!J11))","v":"http://www.tabonline.com.au/2012/02/20/AT07.html"},{"$f":"IF(Meetings!K11=\"\",\"\",getAddress(Meetings!K11))","v":"http://www.tabonline.com.au/2012/02/20/AT08.html"},{"$f":"IF(Meetings!L11=\"\",\"\",getAddress(Meetings!L11))","v":""},{"$f":"IF(Meetings!M11=\"\",\"\",getAddress(Meetings!M11))","v":""},{"$f":"IF(Meetings!N11=\"\",\"\",getAddress(Meetings!N11))","v":""},"",null,{"$f":"COUNTA(Meetings!D11:'Meetings'!O11)","v":8}]
[{"$f":"IF(C11<>\"\",Race!I9,\"\")","v":6},{"$f":"IF(Race!N9=\"\",\"\",IF(Race!A9=\"No.\",\"\",(CLEAN(TRIM(Race!A9)))+0))","v":3},{"$f":"IF(Race!N9<>\"\",(CLEAN(TRIM(Race!C9))),\"\")","v":"MYTHICAL LAD"},{"$f":"IF(C11<>\"\",Race!I9,\"\")","v":6},null,"GLOUCESTER PARK ",{"$f":"IF(Meetings!B12=\"\",\"\",Meetings!B12)","v":"GLOUCESTER PARK (PT)"},{"$f":"IF(Meetings!D12=\"\",\"\",getAddress(Meetings!D12))","v":"http://www.tabonline.com.au/2012/02/20/PT01.html"},{"$f":"IF(Meetings!E12=\"\",\"\",getAddress(Meetings!E12))","v":"http://www.tabonline.com.au/2012/02/20/PT02.html"},{"$f":"IF(Meetings!F12=\"\",\"\",getAddress(Meetings!F12))","v":"http://www.tabonline.com.au/2012/02/20/PT03.html"},{"$f":"IF(Meetings!G12=\"\",\"\",getAddress(Meetings!G12))","v":"http://www.tabonline.com.au/2012/02/20/PT04.html"},{"$f":"IF(Meetings!H12=\"\",\"\",getAddress(Meetings!H12))","v":"http://www.tabonline.com.au/2012/02/20/PT05.html"},{"$f":"IF(Meetings!I12=\"\",\"\",getAddress(Meetings!I12))","v":"http://www.tabonline.com.au/2012/02/20/PT06.html"},{"$f":"IF(Meetings!J12=\"\",\"\",getAddress(Meetings!J12))","v":"http://www.tabonline.com.au/2012/02/20/PT07.html"},{"$f":"IF(Meetings!K12=\"\",\"\",getAddress(Meetings!K12))","v":"http://www.tabonline.com.au/2012/02/20/PT08.html"},{"$f":"IF(Meetings!L12=\"\",\"\",getAddress(Meetings!L12))","v":"http://www.tabonline.com.au/2012/02/20/PT09.html"},{"$f":"IF(Meetings!M12=\"\",\"\",getAddress(Meetings!M12))","v":""},{"$f":"IF(Meetings!N12=\"\",\"\",getAddress(Meetings!N12))","v":""},"",null,{"$f":"COUNTA(Meetings!D12:'Meetings'!O12)","v":9}]
[{"$f":"IF(C12<>\"\",Race!I10,\"\")","v":4},{"$f":"IF(Race!N10=\"\",\"\",IF(Race!A10=\"No.\",\"\",(CLEAN(TRIM(Race!A10)))+0))","v":4},{"$f":"IF(Race!N10<>\"\",(CLEAN(TRIM(Race!C10))),\"\")","v":"VINGE GRANDE"},{"$f":"IF(C12<>\"\",Race!I10,\"\")","v":4},null,{"$error":"#VALUE!"},{"$f":"IF(Meetings!B13=\"\",\"\",Meetings!B13)","v":""},{"$f":"IF(Meetings!D13=\"\",\"\",getAddress(Meetings!D13))","v":{"$error":"#VALUE!"}},{"$f":"IF(Meetings!E13=\"\",\"\",getAddress(Meetings!E13))","v":{"$error":"#VALUE!"}},{"$f":"IF(Meetings!F13=\"\",\"\",getAddress(Meetings!F13))","v":{"$error":"#VALUE!"}},{"$f":"IF(Meetings!G13=\"\",\"\",getAddress(Meetings!G13))","v":{"$error":"#VALUE!"}},{"$f":"IF(Meetings!H13=\"\",\"\",getAddress(Meetings!H13))","v":{"$error":"#VALUE!"}},{"$f":"IF(Meetings!I13=\"\",\"\",getAddress(Meetings!I13))","v":{"$error":"#VALUE!"}},{"$f":"IF(Meetings!J13=\"\",\"\",getAddress(Meetings!J13))","v":{"$error":"#VALUE!"}},{"$f":"IF(Meetings!K13=\"\",\"\",getAddress(Meetings!K13))","v":{"$error":"#VALUE!"}},{"$f":"IF(Meetings!L13=\"\",\"\",getAddress(Meetings!L13))","v":{"$error":"#VALUE!"}},{"$f":"IF(Meetings!M13=\"\",\"\",getAddress(Meetings!M13))","v":{"$error":"#VALUE!"}},{"$f":"IF(Meetings!N13=\"\",\"\",getAddress(Meetings!N13))","v":{"$error":"#VALUE!"}},"",null,{"$f":"COUNTA(Meetings!D13:'Meetings'!O13)","v":12}]
[{"$f":"IF(C13<>\"\",Race!I11,\"\")","v":8},{"$f":"IF(Race!N11=\"\",\"\",IF(Race!A11=\"No.\",\"\",(CLEAN(TRIM(Race!A11)))+0))","v":5},{"$f":"IF(Race!N11<>\"\",(CLEAN(TRIM(Race!C11))),\"\")","v":"LUMINOUS LAD"},{"$f":"IF(C13<>\"\",Race!I11,\"\")","v":8},null,"ALBION PARK ",{"$f":"IF(Meetings!B14=\"\",\"\",Meetings!B14)","v":"ALBION PARK (BG)"},{"$f":"IF(Meetings!D14=\"\",\"\",getAddress(Meetings!D14))","v":"http://www.tabonline.com.au/2012/02/20/BG01.html"},{"$f":"IF(Meetings!E14=\"\",\"\",getAddress(Meetings!E14))","v":"http://www.tabonline.com.au/2012/02/20/BG02.html"},{"$f":"IF(Meetings!F14=\"\",\"\",getAddress(Meetings!F14))","v":"http://www.tabonline.com.au/2012/02/20/BG03.html"},{"$f":"IF(Meetings!G14=\"\",\"\",getAddress(Meetings!G14))","v":"http://www.tabonline.com.au/2012/02/20/BG04.html"},{"$f":"IF(Meetings!H14=\"\",\"\",getAddress(Meetings!H14))","v":"http://www.tabonline.com.au/2012/02/20/BG05.html"},{"$f":"IF(Meetings!I14=\"\",\"\",getAddress(Meetings!I14))","v":"http://www.tabonline.com.au/2012/02/20/BG06.html"},{"$f":"IF(Meetings!J14=\"\",\"\",getAddress(Meetings!J14))","v":"http://www.tabonline.com.au/2012/02/20/BG07.html"},{"$f":"IF(Meetings!K14=\"\",\"\",getAddress(Meetings!K14))","v":"http://www.tabonline.com.au/2012/02/20/BG08.html"},{"$f":"IF(Meetings!L14=\"\",\"\",getAddress(Meetings!L14))","v":"http://www.tabonline.com.au/2012/02/20/BG09.html"},{"$f":"IF(Meetings!M14=\"\",\"\",getAddress(Meetings!M14))","v":"http://www.tabonline.com.au/2012/02/20/BG10.html"},{"$f":"IF(Meetings!N14=\"\",\"\",getAddress(Meetings!N14))","v":""},"",null,{"$f":"COUNTA(Meetings!D14:'Meetings'!O14)","v":10}]
[{"$f":"IF(C14<>\"\",Race!I12,\"\")","v":9},{"$f":"IF(Race!N12=\"\",\"\",IF(Race!A12=\"No.\",\"\",(CLEAN(TRIM(Race!A12)))+0))","v":6},{"$f":"IF(Race!N12<>\"\",(CLEAN(TRIM(Race!C12))),\"\")","v":"PRUSSIAN DANCER"},{"$f":"IF(C14<>\"\",Race!I12,\"\")","v":9},null,"BULLI ",{"$f":"IF(Meetings!B15=\"\",\"\",Meetings!B15)","v":"BULLI (SG)"},{"$f":"IF(Meetings!D15=\"\",\"\",getAddress(Meetings!D15))","v":"http://www.tabonline.com.au/2012/02/20/SG01.html"},{"$f":"IF(Meetings!E15=\"\",\"\",getAddress(Meetings!E15))","v":"http://www.tabonline.com.au/2012/02/20/SG02.html"},{"$f":"IF(Meetings!F15=\"\",\"\",getAddress(Meetings!F15))","v":"http://www.tabonline.com.au/2012/02/20/SG03.html"},{"$f":"IF(Meetings!G15=\"\",\"\",getAddress(Meetings!G15))","v":"http://www.tabonline.com.au/2012/02/20/SG04.html"},{"$f":"IF(Meetings!H15=\"\",\"\",getAddress(Meetings!H15))","v":"http://www.tabonline.com.au/2012/02/20/SG05.html"},{"$f":"IF(Meetings!I15=\"\",\"\",getAddress(Meetings!I15))","v":"http://www.tabonline.com.au/2012/02/20/SG06.html"},{"$f":"IF(Meetings!J15=\"\",\"\",getAddress(Meetings!J15))","v":"http://www.tabonline.com.au/2012/02/20/SG07.html"},{"$f":"IF(Meetings!K15=\"\",\"\",getAddress(Meetings!K15))","v":"http://www.tabonline.com.au/2012/02/20/SG08.html"},{"$f":"IF(Meetings!L15=\"\",\"\",getAddress(Meetings!L15))","v":"http://www.tabonline.com.au/2012/02/20/SG09.html"},{"$f":"IF(Meetings!M15=\"\",\"\",getAddress(Meetings!M15))","v":"http://www.tabonline.com.au/2012/02/20/SG10.html"},{"$f":"IF(Meetings!N15=\"\",\"\",getAddress(Meetings!N15))","v":""},"",null,{"$f":"COUNTA(Meetings!D15:'Meetings'!O15)","v":10}]
[{"$f":"IF(C15<>\"\",Race!I13,\"\")","v":5},{"$f":"IF(Race!N13=\"\",\"\",IF(Race!A13=\"No.\",\"\",(CLEAN(TRIM(Race!A13)))+0))","v":7},{"$f":"IF(Race!N13<>\"\",(CLEAN(TRIM(Race!C13))),\"\")","v":"DASHFUL"},{"$f":"IF(C15<>\"\",Race!I13,\"\")","v":5},null,"SHEPPARTON ",{"$f":"IF(Meetings!B16=\"\",\"\",Meetings!B16)","v":"SHEPPARTON (MG)"},{"$f":"IF(Meetings!D16=\"\",\"\",getAddress(Meetings!D16))","v":"http://www.tabonline.com.au/2012/02/20/MG01.html"},{"$f":"IF(Meetings!E16=\"\",\"\",getAddress(Meetings!E16))","v":"http://www.tabonline.com.au/2012/02/20/MG02.html"},{"$f":"IF(Meetings!F16=\"\",\"\",getAddress(Meetings!F16))","v":"http://www.tabonline.com.au/2012/02/20/MG03.html"},{"$f":"IF(Meetings!G16=\"\",\"\",getAddress(Meetings!G16))","v":"http://www.tabonline.com.au/2012/02/20/MG04.html"},{"$f":"IF(Meetings!H16=\"\",\"\",getAddress(Meetings!H16))","v":"http://www.tabonline.com.au/2012/02/20/MG05.html"},{"$f":"IF(Meetings!I16=\"\",\"\",getAddress(Meetings!I16))","v":"http://www.tabonline.com.au/2012/02/20/MG06.html"},{"$f":"IF(Meetings!J16=\"\",\"\",getAddress(Meetings!J16))","v":"http://www.tabonline.com.au/2012/02/20/MG07.html"},{"$f":"IF(Meetings!K16=\"\",\"\",getAddress(Meetings!K16))","v":"http://www.tabonline.com.au/2012/02/20/MG08.html"},{"$f":"IF(Meetings!L16=\"\",\"\",getAddress(Meetings!L16))","v":"http://www.tabonline.com.au/2012/02/20/MG09.html"},{"$f":"IF(Meetings!M16=\"\",\"\",getAddress(Meetings!M16))","v":"http://www.tabonline.com.au/2012/02/20/MG10.html"},{"$f":"IF(Meetings!N16=\"\",\"\",getAddress(Meetings!N16))","v":"http://www.tabonline.com.au/2012/02/20/MG11.html"},"",null,{"$f":"COUNTA(Meetings!D16:'Meetings'!O16)","v":12}]
[{"$f":"IF(C16<>\"\",Race!I14,\"\")","v":12},{"$f":"IF(Race!N14=\"\",\"\",IF(Race!A14=\"No.\",\"\",(CLEAN(TRIM(Race!A14)))+0))","v":8},{"$f":"IF(Race!N14<>\"\",(CLEAN(TRIM(Race!C14))),\"\")","v":"CRISTIS GOLD"},{"$f":"IF(C16<>\"\",Race!I14,\"\")","v":12},null,"BATHURST ",{"$f":"IF(Meetings!B17=\"\",\"\",Meetings!B17)","v":"BATHURST (NG)"},{"$f":"IF(Meetings!D17=\"\",\"\",getAddress(Meetings!D17))","v":"http://www.tabonline.com.au/2012/02/20/NG01.html"},{"$f":"IF(Meetings!E17=\"\",\"\",getAddress(Meetings!E17))","v":"http://www.tabonline.com.au/2012/02/20/NG02.html"},{"$f":"IF(Meetings!F17=\"\",\"\",getAddress(Meetings!F17))","v":"http://www.tabonline.com.au/2012/02/20/NG03.html"},{"$f":"IF(Meetings!G17=\"\",\"\",getAddress(Meetings!G17))","v":"http://www.tabonline.com.au/2012/02/20/NG04.html"},{"$f":"IF(Meetings!H17=\"\",\"\",getAddress(Meetings!H17))","v":"http://www.tabonline.com.au/2012/02/20/NG05.html"},{"$f":"IF(Meetings!I17=\"\",\"\",getAddress(Meetings!I17))","v":"http://www.tabonline.com.au/2012/02/20/NG06.html"},{"$f":"IF(Meetings!J17=\"\",\"\",getAddress(Meetings!J17))","v":"http://www.tabonline.com.au/2012/02/20/NG07.html"},{"$f":"IF(Meetings!K17=\"\",\"\",getAddress(Meetings!K17))","v":"http://www.tabonline.com.au/2012/02/20/NG08.html"},{"$f":"IF(Meetings!L17=\"\",\"\",getAddress(Meetings!L17))","v":"http://www.tabonline.com.au/2012/02/20/NG09.html"},{"$f":"IF(Meetings!M17=\"\",\"\",getAddress(Meetings!M17))","v":"http://www.tabonline.com.au/2012/02/20/NG10.html"},{"$f":"IF(Meetings!N17=\"\",\"\",getAddress(Meetings!N17))","v":""},"",null,{"$f":"COUNTA(Meetings!D17:'Meetings'!O17)","v":10}]
[{"$f":"IF(C17<>\"\",Race!I15,\"\")","v":14},{"$f":"IF(Race!N15=\"\",\"\",IF(Race!A15=\"No.\",\"\",(CLEAN(TRIM(Race!A15)))+0))","v":9},{"$f":"IF(Race!N15<>\"\",(CLEAN(TRIM(Race!C15))),\"\")","v":"LADY BARTON"},{"$f":"IF(C17<>\"\",Race!I15,\"\")","v":14},null,"CRANBOURNE ",{"$f":"IF(Meetings!B18=\"\",\"\",Meetings!B18)","v":"CRANBOURNE (VG)"},{"$f":"IF(Meetings!D18=\"\",\"\",getAddress(Meetings!D18))","v":"http://www.tabonline.com.au/2012/02/20/VG01.html"},{"$f":"IF(Meetings!E18=\"\",\"\",getAddress(Meetings!E18))","v":"http://www.tabonline.com.au/2012/02/20/VG02.html"},{"$f":"IF(Meetings!F18=\"\",\"\",getAddress(Meetings!F18))","v":"http://www.tabonline.com.au/2012/02/20/VG03.html"},{"$f":"IF(Meetings!G18=\"\",\"\",getAddress(Meetings!G18))","v":"http://www.tabonline.com.au/2012/02/20/VG04.html"},{"$f":"IF(Meetings!H18=\"\",\"\",getAddress(Meetings!H18))","v":"http://www.tabonline.com.au/2012/02/20/VG05.html"},{"$f":"IF(Meetings!I18=\"\",\"\",getAddress(Meetings!I18))","v":"http://www.tabonline.com.au/2012/02/20/VG06.html"},{"$f":"IF(Meetings!J18=\"\",\"\",getAddress(Meetings!J18))","v":"http://www.tabonline.com.au/2012/02/20/VG07.html"},{"$f":"IF(Meetings!K18=\"\",\"\",getAddress(Meetings!K18))","v":"http://www.tabonline.com.au/2012/02/20/VG08.html"},{"$f":"IF(Meetings!L18=\"\",\"\",getAddress(Meetings!L18))","v":"http://www.tabonline.com.au/2012/02/20/VG09.html"},{"$f":"IF(Meetings!M18=\"\",\"\",getAddress(Meetings!M18))","v":"http://www.tabonline.com.au/2012/02/20/VG10.html"},{"$f":"IF(Meetings!N18=\"\",\"\",getAddress(Meetings!N18))","v":"http://www.tabonline.com.au/2012/02/20/VG11.html"},"",null,{"$f":"COUNTA(Meetings!D18:'Meetings'!O18)","v":12}]
[{"$f":"IF(C18<>\"\",Race!I16,\"\")","v":3},{"$f":"IF(Race!N16=\"\",\"\",IF(Race!A16=\"No.\",\"\",(CLEAN(TRIM(Race!A16)))+0))","v":10},{"$f":"IF(Race!N16<>\"\",(CLEAN(TRIM(Race!C16))),\"\")","v":"WOMBAT WOO WOO"},{"$f":"IF(C18<>\"\",Race!I16,\"\")","v":3},null,"ANGLE PARK ",{"$f":"IF(Meetings!B19=\"\",\"\",Meetings!B19)","v":"ANGLE PARK (AG)"},{"$f":"IF(Meetings!D19=\"\",\"\",getAddress(Meetings!D19))","v":"http://www.tabonline.com.au/2012/02/20/AG01.html"},{"$f":"IF(Meetings!E19=\"\",\"\",getAddress(Meetings!E19))","v":"http://www.tabonline.com.au/2012/02/20/AG02.html"},{"$f":"IF(Meetings!F19=\"\",\"\",getAddress(Meetings!F19))","v":"http://www.tabonline.com.au/2012/02/20/AG03.html"},{"$f":"IF(Meetings!G19=\"\",\"\",getAddress(Meetings!G19))","v":"http://www.tabonline.com.au/2012/02/20/AG04.html"},{"$f":"IF(Meetings!H19=\"\",\"\",getAddress(Meetings!H19))","v":"http://www.tabonline.com.au/2012/02/20/AG05.html"},{"$f":"IF(Meetings!I19=\"\",\"\",getAddress(Meetings!I19))","v":"http://www.tabonline.com.au/2012/02/20/AG06.html"},{"$f":"IF(Meetings!J19=\"\",\"\",getAddress(Meetings!J19))","v":"http://www.tabonline.com.au/2012/02/20/AG07.html"},{"$f":"IF(Meetings!K19=\"\",\"\",getAddress(Meetings!K19))","v":"http://www.tabonline.com.au/2012/02/20/AG08.html"},{"$f":"IF(Meetings!L19=\"\",\"\",getAddress(Meetings!L19))","v":"http://www.tabonline.com.au/2012/02/20/AG09.html"},{"$f":"IF(Meetings!M19=\"\",\"\",getAddress(Meetings!M19))","v":"http://www.tabonline.com.au/2012/02/20/AG10.html"},{"$f":"IF(Meetings!N19=\"\",\"\",getAddress(Meetings!N19))","v":"http://www.tabonline.com.au/2012/02/20/AG11.html"},"",null,{"$f":"COUNTA(Meetings!D19:'Meetings'!O19)","v":11}]
[{"$f":"IF(C19<>\"\",Race!I17,\"\")","v":""},{"$f":"IF(Race!N17=\"\",\"\",IF(Race!A17=\"No.\",\"\",(CLEAN(TRIM(Race!A17)))+0))","v":""},{"$f":"IF(Race!N17<>\"\",(CLEAN(TRIM(Race!C17))),\"\")","v":""},{"$f":"IF(C19<>\"\",Race!I17,\"\")","v":""},null,"MANDURAH ",{"$f":"IF(Meetings!B20=\"\",\"\",Meetings!B20)","v":"MANDURAH (PG)"},{"$f":"IF(Meetings!D20=\"\",\"\",getAddress(Meetings!D20))","v":"http://www.tabonline.com.au/2012/02/20/PG01.html"},{"$f":"IF(Meetings!E20=\"\",\"\",getAddress(Meetings!E20))","v":"http://www.tabonline.com.au/2012/02/20/PG02.html"},{"$f":"IF(Meetings!F20=\"\",\"\",getAddress(Meetings!F20))","v":"http://www.tabonline.com.au/2012/02/20/PG03.html"},{"$f":"IF(Meetings!G20=\"\",\"\",getAddress(Meetings!G20))","v":"http://www.tabonline.com.au/2012/02/20/PG04.html"},{"$f":"IF(Meetings!H20=\"\",\"\",getAddress(Meetings!H20))","v":"http://www.tabonline.com.au/2012/02/20/PG05.html"},{"$f":"IF(Meetings!I20=\"\",\"\",getAddress(Meetings!I20))","v":"http://www.tabonline.com.au/2012/02/20/PG06.html"},{"$f":"IF(Meetings!J20=\"\",\"\",getAddress(Meetings!J20))","v":"http://www.tabonline.com.au/2012/02/20/PG07.html"},{"$f":"IF(Meetings!K20=\"\",\"\",getAddress(Meetings!K20))","v":"http://www.tabonline.com.au/2012/02/20/PG08.html"},{"$f":"IF(Meetings!L20=\"\",\"\",getAddress(Meetings!L20))","v":"http://www.tabonline.com.au/2012/02/20/PG09.html"},{"$f":"IF(Meetings!M20=\"\",\"\",getAddress(Meetings!M20))","v":"http://www.tabonline.com.au/2012/02/20/PG10.html"},{"$f":"IF(Meetings!N20=\"\",\"\",getAddress(Meetings!N20))","v":"http://www.tabonline.com.au/2012/02/20/PG11.html"},"",null,{"$f":"COUNTA(Meetings!D20:'Meetings'!O20)","v":12}]
[{"$f":"IF(C20<>\"\",Race!I18,\"\")","v":""},{"$f":"IF(Race!N18=\"\",\"\",IF(Race!A18=\"No.\",\"\",(CLEAN(TRIM(Race!A18)))+0))","v":""},{"$f":"IF(Race!N18<>\"\",(CLEAN(TRIM(Race!C18))),\"\")","v":""},{"$f":"IF(C20<>\"\",Race!I18,\"\")","v":""},null,"BALLARAT ",{"$f":"IF(Meetings!B21=\"\",\"\",Meetings!B21)","v":"BALLARAT (EG)"},{"$f":"IF(Meetings!D21=\"\",\"\",getAddress(Meetings!D21))","v":"http://www.tabonline.com.au/2012/02/20/EG01.html"},{"$f":"IF(Meetings!E21=\"\",\"\",getAddress(Meetings!E21))","v":"http://www.tabonline.com.au/2012/02/20/EG02.html"},{"$f":"IF(Meetings!F21=\"\",\"\",getAddress(Meetings!F21))","v":"http://www.tabonline.com.au/2012/02/20/EG03.html"},{"$f":"IF(Meetings!G21=\"\",\"\",getAddress(Meetings!G21))","v":"http://www.tabonline.com.au/2012/02/20/EG04.html"},{"$f":"IF(Meetings!H21=\"\",\"\",getAddress(Meetings!H21))","v":"http://www.tabonline.com.au/2012/02/20/EG05.html"},{"$f":"IF(Meetings!I21=\"\",\"\",getAddress(Meetings!I21))","v":"http://www.tabonline.com.au/2012/02/20/EG06.html"},{"$f":"IF(Meetings!J21=\"\",\"\",getAddress(Meetings!J21))","v":"http://www.tabonline.com.au/2012/02/20/EG07.html"},{"$f":"IF(Meetings!K21=\"\",\"\",getAddress(Meetings!K21))","v":"http://www.tabonline.com.au/2012/02/20/EG08.html"},{"$f":"IF(Meetings!L21=\"\",\"\",getAddress(Meetings!L21))","v":"http://www.tabonline.com.au/2012/02/20/EG09.html"},{"$f":"IF(Meetings!M21=\"\",\"\",getAddress(Meetings!M21))","v":"http://www.tabonline.com.au/2012/02/20/EG10.html"},{"$f":"IF(Meetings!N21=\"\",\"\",getAddress(Meetings!N21))","v":"http://www.tabonline.com.au/2012/02/20/EG11.html"},"",null,{"$f":"COUNTA(Meetings!D21:'Meetings'!O21)","v":12}]
[{"$f":"IF(C21<>\"\",Race!I19,\"\")","v":""},{"$f":"IF(Race!N19=\"\",\"\",IF(Race!A19=\"No.\",\"\",(CLEAN(TRIM(Race!A19)))+0))","v":""},{"$f":"IF(Race!N19<>\"\",(CLEAN(TRIM(Race!C19))),\"\")","v":""},{"$f":"IF(C21<>\"\",Race!I19,\"\")","v":""},null,"MANAWATU ",{"$f":"IF(Meetings!B22=\"\",\"\",Meetings!B22)","v":"MANAWATU (ZG)"},{"$f":"IF(Meetings!D22=\"\",\"\",getAddress(Meetings!D22))","v":"http://www.tabonline.com.au/2012/02/20/ZG01.html"},{"$f":"IF(Meetings!E22=\"\",\"\",getAddress(Meetings!E22))","v":"http://www.tabonline.com.au/2012/02/20/ZG02.html"},{"$f":"IF(Meetings!F22=\"\",\"\",getAddress(Meetings!F22))","v":"http://www.tabonline.com.au/2012/02/20/ZG03.html"},{"$f":"IF(Meetings!G22=\"\",\"\",getAddress(Meetings!G22))","v":"http://www.tabonline.com.au/2012/02/20/ZG04.html"},{"$f":"IF(Meetings!H22=\"\",\"\",getAddress(Meetings!H22))","v":"http://www.tabonline.com.au/2012/02/20/ZG05.html"},{"$f":"IF(Meetings!I22=\"\",\"\",getAddress(Meetings!I22))","v":"http://www.tabonline.com.au/2012/02/20/ZG06.html"},{"$f":"IF(Meetings!J22=\"\",\"\",getAddress(Meetings!J22))","v":"http://www.tabonline.com.au/2012/02/20/ZG07.html"},{"$f":"IF(Meetings!K22=\"\",\"\",getAddress(Meetings!K22))","v":"http://www.tabonline.com.au/2012/02/20/ZG08.html"},{"$f":"IF(Meetings!L22=\"\",\"\",getAddress(Meetings!L22))","v":"http://www.tabonline.com.au/2012/02/20/ZG09.html"},{"$f":"IF(Meetings!M22=\"\",\"\",getAddress(Meetings!M22))","v":"http://www.tabonline.com.au/2012/02/20/ZG10.html"},{"$f":"IF(Meetings!N22=\"\",\"\",getAddress(Meetings!N22))","v":"http://www.tabonline.com.au/2012/02/20/ZG11.html"},"",null,{"$f":"COUNTA(Meetings!D22:'Meetings'!O22)","v":12}]
[{"$f":"IF(C22<>\"\",Race!I20,\"\")","v":""},{"$f":"IF(Race!N20=\"\",\"\",IF(Race!A20=\"No.\",\"\",(CLEAN(TRIM(Race!A20)))+0))","v":""},{"$f":"IF(Race!N20<>\"\",(CLEAN(TRIM(Race!C20))),\"\")","v":""},{"$f":"IF(C22<>\"\",Race!I20,\"\")","v":""},null,"LAUNCESTON ",{"$f":"IF(Meetings!B23=\"\",\"\",Meetings!B23)","v":"LAUNCESTON (TG)"},{"$f":"IF(Meetings!D23=\"\",\"\",getAddress(Meetings!D23))","v":"http://www.tabonline.com.au/2012/02/20/TG01.html"},{"$f":"IF(Meetings!E23=\"\",\"\",getAddress(Meetings!E23))","v":"http://www.tabonline.com.au/2012/02/20/TG02.html"},{"$f":"IF(Meetings!F23=\"\",\"\",getAddress(Meetings!F23))","v":"http://www.tabonline.com.au/2012/02/20/TG03.html"},{"$f":"IF(Meetings!G23=\"\",\"\",getAddress(Meetings!G23))","v":"http://www.tabonline.com.au/2012/02/20/TG04.html"},{"$f":"IF(Meetings!H23=\"\",\"\",getAddress(Meetings!H23))","v":"http://www.tabonline.com.au/2012/02/20/TG05.html"},{"$f":"IF(Meetings!I23=\"\",\"\",getAddress(Meetings!I23))","v":"http://www.tabonline.com.au/2012/02/20/TG06.html"},{"$f":"IF(Meetings!J23=\"\",\"\",getAddress(Meetings!J23))","v":"http://www.tabonline.com.au/2012/02/20/TG07.html"},{"$f":"IF(Meetings!K23=\"\",\"\",getAddress(Meetings!K23))","v":"http://www.tabonline.com.au/2012/02/20/TG08.html"},{"$f":"IF(Meetings!L23=\"\",\"\",getAddress(Meetings!L23))","v":"http://www.tabonline.com.au/2012/02/20/TG09.html"},{"$f":"IF(Meetings!M23=\"\",\"\",getAddress(Meetings!M23))","v":"http://www.tabonline.com.au/2012/02/20/TG10.html"},{"$f":"IF(Meetings!N23=\"\",\"\",getAddress(Meetings!N23))","v":"http://www.tabonline.com.au/2012/02/20/TG11.html"},{"$error":"#VALUE!"},null,{"$f":"COUNTA(Meetings!D23:'Meetings'!O23)","v":11}]
[{"$f":"IF(C23<>\"\",Race!I21,\"\")","v":""},{"$f":"IF(Race!N21=\"\",\"\",IF(Race!A21=\"No.\",\"\",(CLEAN(TRIM(Race!A21)))+0))","v":""},{"$f":"IF(Race!N21<>\"\",(CLEAN(TRIM(Race!C21))),\"\")","v":""},{"$f":"IF(C23<>\"\",Race!I21,\"\")","v":""},null,"",{"$f":"IF(Meetings!B24=\"\",\"\",Meetings!B24)","v":""},{"$f":"IF(Meetings!D24=\"\",\"\",getAddress(Meetings!D24))","v":""},{"$f":"IF(Meetings!E24=\"\",\"\",getAddress(Meetings!E24))","v":""},{"$f":"IF(Meetings!F24=\"\",\"\",getAddress(Meetings!F24))","v":""},{"$f":"IF(Meetings!G24=\"\",\"\",getAddress(Meetings!G24))","v":""},{"$f":"IF(Meetings!H24=\"\",\"\",getAddress(Meetings!H24))","v":""},{"$f":"IF(Meetings!I24=\"\",\"\",getAddress(Meetings!I24))","v":""},{"$f":"IF(Meetings!J24=\"\",\"\",getAddress(Meetings!J24))","v":""},{"$f":"IF(Meetings!K24=\"\",\"\",getAddress(Meetings!K24))","v":""},{"$f":"IF(Meetings!L24=\"\",\"\",getAddress(Meetings!L24))","v":""},{"$f":"IF(Meetings!M24=\"\",\"\",getAddress(Meetings!M24))","v":""},{"$f":"IF(Meetings!N24=\"\",\"\",getAddress(Meetings!N24))","v":""},"",null,{"$f":"COUNTA(Meetings!D24:'Meetings'!O24)","v":0}]
[{"$f":"IF(C24<>\"\",Race!I22,\"\")","v":""},{"$f":"IF(Race!N22=\"\",\"\",IF(Race!A22=\"No.\",\"\",(CLEAN(TRIM(Race!A22)))+0))","v":""},{"$f":"IF(Race!N22<>\"\",(CLEAN(TRIM(Race!C22))),\"\")","v":""},{"$f":"IF(C24<>\"\",Race!I22,\"\")","v":""},null,"",{"$f":"IF(Meetings!B25=\"\",\"\",Meetings!B25)","v":""},{"$f":"IF(Meetings!D25=\"\",\"\",getAddress(Meetings!D25))","v":""},{"$f":"IF(Meetings!E25=\"\",\"\",getAddress(Meetings!E25))","v":""},{"$f":"IF(Meetings!F25=\"\",\"\",getAddress(Meetings!F25))","v":""},{"$f":"IF(Meetings!G25=\"\",\"\",getAddress(Meetings!G25))","v":""},{"$f":"IF(Meetings!H25=\"\",\"\",getAddress(Meetings!H25))","v":""},{"$f":"IF(Meetings!I25=\"\",\"\",getAddress(Meetings!I25))","v":""},{"$f":"IF(Meetings!J25=\"\",\"\",getAddress(Meetings!J25))","v":""},{"$f":"IF(Meetings!K25=\"\",\"\",getAddress(Meetings!K25))","v":""},{"$f":"IF(Meetings!L25=\"\",\"\",getAddress(Meetings!L25))","v":""},{"$f":"IF(Meetings!M25=\"\",\"\",getAddress(Meetings!M25))","v":""},{"$f":"IF(Meetings!N25=\"\",\"\",getAddress(Meetings!N25))","v":""},"",null,{"$f":"COUNTA(Meetings!D25:'Meetings'!O25)","v":0}]
[{"$f":"IF(C25<>\"\",Race!I23,\"\")","v":""},{"$f":"IF(Race!N23=\"\",\"\",IF(Race!A23=\"No.\",\"\",(CLEAN(TRIM(Race!A23)))+0))","v":""},{"$f":"IF(Race!N23<>\"\",(CLEAN(TRIM(Race!C23))),\"\")","v":""},{"$f":"IF(C25<>\"\",Race!I23,\"\")","v":""},null,"",{"$f":"IF(Meetings!B26=\"\",\"\",Meetings!B26)","v":""},{"$f":"IF(Meetings!D26=\"\",\"\",getAddress(Meetings!D26))","v":""},{"$f":"IF(Meetings!E26=\"\",\"\",getAddress(Meetings!E26))","v":""},{"$f":"IF(Meetings!F26=\"\",\"\",getAddress(Meetings!F26))","v":""},{"$f":"IF(Meetings!G26=\"\",\"\",getAddress(Meetings!G26))","v":""},{"$f":"IF(Meetings!H26=\"\",\"\",getAddress(Meetings!H26))","v":""},{"$f":"IF(Meetings!I26=\"\",\"\",getAddress(Meetings!I26))","v":""},{"$f":"IF(Meetings!J26=\"\",\"\",getAddress(Meetings!J26))","v":""},{"$f":"IF(Meetings!K26=\"\",\"\",getAddress(Meetings!K26))","v":""},{"$f":"IF(Meetings!L26=\"\",\"\",getAddress(Meetings!L26))","v":""},{"$f":"IF(Meetings!M26=\"\",\"\",getAddress(Meetings!M26))","v":""},{"$f":"IF(Meetings!N26=\"\",\"\",getAddress(Meetings!N26))","v":""},""]
[{"$f":"IF(C26<>\"\",Race!I24,\"\")","v":""},{"$f":"IF(Race!N24=\"\",\"\",IF(Race!A24=\"No.\",\"\",(CLEAN(TRIM(Race!A24)))+0))","v":""},{"$f":"IF(Race!N24<>\"\",(CLEAN(TRIM(Race!C24))),\"\")","v":""},{"$f":"IF(C26<>\"\",Race!I24,\"\")","v":""},null,"",{"$f":"IF(Meetings!B27=\"\",\"\",Meetings!B27)","v":""},{"$f":"IF(Meetings!D27=\"\",\"\",getAddress(Meetings!D27))","v":""},{"$f":"IF(Meetings!E27=\"\",\"\",getAddress(Meetings!E27))","v":""},{"$f":"IF(Meetings!F27=\"\",\"\",getAddress(Meetings!F27))","v":""},{"$f":"IF(Meetings!G27=\"\",\"\",getAddress(Meetings!G27))","v":""},{"$f":"IF(Meetings!H27=\"\",\"\",getAddress(Meetings!H27))","v":""},{"$f":"IF(Meetings!I27=\"\",\"\",getAddress(Meetings!I27))","v":""},{"$f":"IF(Meetings!J27=\"\",\"\",getAddress(Meetings!J27))","v":""},{"$f":"IF(Meetings!K27=\"\",\"\",getAddress(Meetings!K27))","v":""},{"$f":"IF(Meetings!L27=\"\",\"\",getAddress(Meetings!L27))","v":""},{"$f":"IF(Meetings!M27=\"\",\"\",getAddress(Meetings!M27))","v":""},{"$f":"IF(Meetings!N27=\"\",\"\",getAddress(Meetings!N27))","v":""},""]
[{"$f":"IF(C27<>\"\",Race!I25,\"\")","v":""},{"$f":"IF(Race!N25=\"\",\"\",IF(Race!A25=\"No.\",\"\",(CLEAN(TRIM(Race!A25)))+0))","v":""},{"$f":"IF(Race!N25<>\"\",(CLEAN(TRIM(Race!C25))),\"\")","v":""},{"$f":"IF(C27<>\"\",Race!I25,\"\")","v":""},null,"",{"$f":"IF(Meetings!B28=\"\",\"\",Meetings!B28)","v":""},{"$f":"IF(Meetings!D28=\"\",\"\",getAddress(Meetings!D28))","v":""},{"$f":"IF(Meetings!E28=\"\",\"\",getAddress(Meetings!E28))","v":""},{"$f":"IF(Meetings!F28=\"\",\"\",getAddress(Meetings!F28))","v":""},{"$f":"IF(Meetings!G28=\"\",\"\",getAddress(Meetings!G28))","v":""},{"$f":"IF(Meetings!H28=\"\",\"\",getAddress(Meetings!H28))","v":""},{"$f":"IF(Meetings!I28=\"\",\"\",getAddress(Meetings!I28))","v":""},{"$f":"IF(Meetings!J28=\"\",\"\",getAddress(Meetings!J28))","v":""},{"$f":"IF(Meetings!K28=\"\",\"\",getAddress(Meetings!K28))","v":""},{"$f":"IF(Meetings!L28=\"\",\"\",getAddress(Meetings!L28))","v":""},{"$f":"IF(Meetings!M28=\"\",\"\",getAddress(Meetings!M28))","v":""},{"$f":"IF(Meetings!N28=\"\",\"\",getAddress(Meetings!N28))","v":""},""]
[{"$f":"IF(C28<>\"\",Race!I26,\"\")","v":""},{"$f":"IF(Race!N26=\"\",\"\",IF(Race!A26=\"No.\",\"\",(CLEAN(TRIM(Race!A26)))+0))","v":""},{"$f":"IF(Race!N26<>\"\",(CLEAN(TRIM(Race!C26))),\"\")","v":""},{"$f":"IF(C28<>\"\",Race!I26,\"\")","v":""},null,"",{"$f":"IF(Meetings!B29=\"\",\"\",Meetings!B29)","v":""},{"$f":"IF(Meetings!D29=\"\",\"\",getAddress(Meetings!D29))","v":""},{"$f":"IF(Meetings!E29=\"\",\"\",getAddress(Meetings!E29))","v":""},{"$f":"IF(Meetings!F29=\"\",\"\",getAddress(Meetings!F29))","v":""},{"$f":"IF(Meetings!G29=\"\",\"\",getAddress(Meetings!G29))","v":""},{"$f":"IF(Meetings!H29=\"\",\"\",getAddress(Meetings!H29))","v":""},{"$f":"IF(Meetings!I29=\"\",\"\",getAddress(Meetings!I29))","v":""},{"$f":"IF(Meetings!J29=\"\",\"\",getAddress(Meetings!J29))","v":""},{"$f":"IF(Meetings!K29=\"\",\"\",getAddress(Meetings!K29))","v":""},{"$f":"IF(Meetings!L29=\"\",\"\",getAddress(Meetings!L29))","v":""},{"$f":"IF(Meetings!M29=\"\",\"\",getAddress(Meetings!M29))","v":""},{"$f":"IF(Meetings!N29=\"\",\"\",getAddress(Meetings!N29))","v":""},{"$error":"#VALUE!"}]
[{"$f":"IF(C29<>\"\",Race!I27,\"\")","v":""},{"$f":"IF(Race!N27=\"\",\"\",IF(Race!A27=\"No.\",\"\",(CLEAN(TRIM(Race!A27)))+0))","v":""},{"$f":"IF(Race!N27<>\"\",(CLEAN(TRIM(Race!C27))),\"\")","v":""},{"$f":"IF(C29<>\"\",Race!I27,\"\")","v":""},null,"",{"$f":"IF(Meetings!B30=\"\",\"\",Meetings!B30)","v":""},{"$f":"IF(Meetings!D30=\"\",\"\",getAddress(Meetings!D30))","v":""},{"$f":"IF(Meetings!E30=\"\",\"\",getAddress(Meetings!E30))","v":""},{"$f":"IF(Meetings!F30=\"\",\"\",getAddress(Meetings!F30))","v":""},{"$f":"IF(Meetings!G30=\"\",\"\",getAddress(Meetings!G30))","v":""},{"$f":"IF(Meetings!H30=\"\",\"\",getAddress(Meetings!H30))","v":""},{"$f":"IF(Meetings!I30=\"\",\"\",getAddress(Meetings!I30))","v":""},{"$f":"IF(Meetings!J30=\"\",\"\",getAddress(Meetings!J30))","v":""},{"$f":"IF(Meetings!K30=\"\",\"\",getAddress(Meetings!K30))","v":""},{"$f":"IF(Meetings!L30=\"\",\"\",getAddress(Meetings!L30))","v":""},{"$f":"IF(Meetings!M30=\"\",\"\",getAddress(Meetings!M30))","v":""},{"$f":"IF(Meetings!N30=\"\",\"\",getAddress(Meetings!N30))","v":""},""]
[{"$f":"IF(C30<>\"\",Race!I28,\"\")","v":""},{"$f":"IF(Race!N28=\"\",\"\",IF(Race!A28=\"No.\",\"\",(CLEAN(TRIM(Race!A28)))+0))","v":""},{"$f":"IF(Race!N28<>\"\",(CLEAN(TRIM(Race!C28))),\"\")","v":""},{"$f":"IF(C30<>\"\",Race!I28,\"\")","v":""},null,"",{"$f":"IF(Meetings!B31=\"\",\"\",Meetings!B31)","v":""},{"$f":"IF(Meetings!D31=\"\",\"\",getAddress(Meetings!D31))","v":""},{"$f":"IF(Meetings!E31=\"\",\"\",getAddress(Meetings!E31))","v":""},{"$f":"IF(Meetings!F31=\"\",\"\",getAddress(Meetings!F31))","v":""},{"$f":"IF(Meetings!G31=\"\",\"\",getAddress(Meetings!G31))","v":""},{"$f":"IF(Meetings!H31=\"\",\"\",getAddress(Meetings!H31))","v":""},{"$f":"IF(Meetings!I31=\"\",\"\",getAddress(Meetings!I31))","v":""},{"$f":"IF(Meetings!J31=\"\",\"\",getAddress(Meetings!J31))","v":""},{"$f":"IF(Meetings!K31=\"\",\"\",getAddress(Meetings!K31))","v":""},{"$f":"IF(Meetings!L31=\"\",\"\",getAddress(Meetings!L31))","v":""},{"$f":"IF(Meetings!M31=\"\",\"\",getAddress(Meetings!M31))","v":""},{"$f":"IF(Meetings!N31=\"\",\"\",getAddress(Meetings!N31))","v":""},""]
[{"$f":"IF(C31<>\"\",Race!I29,\"\")","v":""},{"$f":"IF(Race!N29=\"\",\"\",IF(Race!A29=\"No.\",\"\",(CLEAN(TRIM(Race!A29)))+0))","v":""},{"$f":"IF(Race!N29<>\"\",(CLEAN(TRIM(Race!C29))),\"\")","v":""},{"$f":"IF(C31<>\"\",Race!I29,\"\")","v":""},null,"",{"$f":"IF(Meetings!B32=\"\",\"\",Meetings!B32)","v":""},{"$f":"IF(Meetings!D32=\"\",\"\",getAddress(Meetings!D32))","v":""},{"$f":"IF(Meetings!E32=\"\",\"\",getAddress(Meetings!E32))","v":""},{"$f":"IF(Meetings!F32=\"\",\"\",getAddress(Meetings!F32))","v":""},{"$f":"IF(Meetings!G32=\"\",\"\",getAddress(Meetings!G32))","v":""},{"$f":"IF(Meetings!H32=\"\",\"\",getAddress(Meetings!H32))","v":""},{"$f":"IF(Meetings!I32=\"\",\"\",getAddress(Meetings!I32))","v":""},{"$f":"IF(Meetings!J32=\"\",\"\",getAddress(Meetings!J32))","v":""},{"$f":"IF(Meetings!K32=\"\",\"\",getAddress(Meetings!K32))","v":""},{"$f":"IF(Meetings!L32=\"\",\"\",getAddress(Meetings!L32))","v":""},{"$f":"IF(Meetings!M32=\"\",\"\",getAddress(Meetings!M32))","v":""},{"$f":"IF(Meetings!N32=\"\",\"\",getAddress(Meetings!N32))","v":""},""]
[{"$f":"IF(C32<>\"\",Race!I30,\"\")","v":""},{"$f":"IF(Race!N30=\"\",\"\",IF(Race!A30=\"No.\",\"\",(CLEAN(TRIM(Race!A30)))+0))","v":""},{"$f":"IF(Race!N30<>\"\",(CLEAN(TRIM(Race!C30))),\"\")","v":""},{"$f":"IF(C32<>\"\",Race!I30,\"\")","v":""},null,"",{"$f":"IF(Meetings!B33=\"\",\"\",Meetings!B33)","v":""},{"$f":"IF(Meetings!D33=\"\",\"\",getAddress(Meetings!D33))","v":""},{"$f":"IF(Meetings!E33=\"\",\"\",getAddress(Meetings!E33))","v":""},{"$f":"IF(Meetings!F33=\"\",\"\",getAddress(Meetings!F33))","v":""},{"$f":"IF(Meetings!G33=\"\",\"\",getAddress(Meetings!G33))","v":""},{"$f":"IF(Meetings!H33=\"\",\"\",getAddress(Meetings!H33))","v":""},{"$f":"IF(Meetings!I33=\"\",\"\",getAddress(Meetings!I33))","v":""},{"$f":"IF(Meetings!J33=\"\",\"\",getAddress(Meetings!J33))","v":""},{"$f":"IF(Meetings!K33=\"\",\"\",getAddress(Meetings!K33))","v":""},{"$f":"IF(Meetings!L33=\"\",\"\",getAddress(Meetings!L33))","v":""},{"$f":"IF(Meetings!M33=\"\",\"\",getAddress(Meetings!M33))","v":""},{"$f":"IF(Meetings!N33=\"\",\"\",getAddress(Meetings!N33))","v":""},{"$error":"#VALUE!"}]
[{"$f":"IF(C33<>\"\",Race!I31,\"\")","v":""},{"$f":"IF(Race!N31=\"\",\"\",IF(Race!A31=\"No.\",\"\",(CLEAN(TRIM(Race!A31)))+0))","v":""},{"$f":"IF(Race!N31<>\"\",(CLEAN(TRIM(Race!C31))),\"\")","v":""},{"$f":"IF(C33<>\"\",Race!I31,\"\")","v":""},null,"",{"$f":"IF(Meetings!B34=\"\",\"\",Meetings!B34)","v":""},{"$f":"IF(Meetings!D34=\"\",\"\",getAddress(Meetings!D34))","v":""},{"$f":"IF(Meetings!E34=\"\",\"\",getAddress(Meetings!E34))","v":""},{"$f":"IF(Meetings!F34=\"\",\"\",getAddress(Meetings!F34))","v":""},{"$f":"IF(Meetings!G34=\"\",\"\",getAddress(Meetings!G34))","v":""},{"$f":"IF(Meetings!H34=\"\",\"\",getAddress(Meetings!H34))","v":""},{"$f":"IF(Meetings!I34=\"\",\"\",getAddress(Meetings!I34))","v":""},{"$f":"IF(Meetings!J34=\"\",\"\",getAddress(Meetings!J34))","v":""},{"$f":"IF(Meetings!K34=\"\",\"\",getAddress(Meetings!K34))","v":""},{"$f":"IF(Meetings!L34=\"\",\"\",getAddress(Meetings!L34))","v":""},{"$f":"IF(Meetings!M34=\"\",\"\",getAddress(Meetings!M34))","v":""},{"$f":"IF(Meetings!N34=\"\",\"\",getAddress(Meetings!N34))","v":""},""]
[{"$f":"IF(C34<>\"\",Race!I32,\"\")","v":""},{"$f":"IF(Race!N32=\"\",\"\",IF(Race!A32=\"No.\",\"\",(CLEAN(TRIM(Race!A32)))+0))","v":""},{"$f":"IF(Race!N32<>\"\",(CLEAN(TRIM(Race!C32))),\"\")","v":""},{"$f":"IF(C34<>\"\",Race!I32,\"\")","v":""},null,null,null,"","","","","","","","","",""]
[{"$f":"IF(C35<>\"\",Race!I33,\"\")","v":""},{"$f":"IF(Race!N33=\"\",\"\",IF(Race!A33=\"No.\",\"\",(CLEAN(TRIM(Race!A33)))+0))","v":""},{"$f":"IF(Race!N33<>\"\",(CLEAN(TRIM(Race!C33))),\"\")","v":""},{"$f":"IF(C35<>\"\",Race!I33,\"\")","v":""},null,null,null,"","","","","","","","","",""]
[{"$f":"IF(C36<>\"\",Race!I34,\"\")","v":""},{"$f":"IF(Race!N34=\"\",\"\",IF(Race!A34=\"No.\",\"\",(CLEAN(TRIM(Race!A34)))+0))","v":""},{"$f":"IF(Race!N34<>\"\",(CLEAN(TRIM(Race!C34))),\"\")","v":""},{"$f":"IF(C36<>\"\",Race!I34,\"\")","v":""},null,null,null,"","","","","","","","","",""]
[null,{"$f":"IF(Race!N35=\"\",\"\",IF(Race!A35=\"No.\",\"\",(CLEAN(TRIM(Race!A35)))+0))","v":""},null,{"$f":"IF(C37<>\"\",Race!I35,\"\")","v":""},null,null,null,"","","","","","","","","",""]
[null,{"$f":"IF(Race!N36=\"\",\"\",IF(Race!A36=\"No.\",\"\",(CLEAN(TRIM(Race!A36)))+0))","v":""},null,{"$f":"IF(C38<>\"\",Race!I36,\"\")","v":""},null,null,null,"","","","","","","","","",""]
[null,{"$f":"IF(Race!N37=\"\",\"\",IF(Race!A37=\"No.\",\"\",(CLEAN(TRIM(Race!A37)))+0))","v":""},null,{"$f":"IF(C39<>\"\",Race!I37,\"\")","v":""},null,null,null,"","","","","","","","","",""]
[null,{"$f":"IF(Race!N38=\"\",\"\",IF(Race!A38=\"No.\",\"\",(CLEAN(TRIM(Race!A38)))+0))","v":""},null,{"$f":"IF(C40<>\"\",Race!I38,\"\")","v":""},null,null,null,"","","","","","","","","",""]
[null,{"$f":"IF(Race!N39=\"\",\"\",IF(Race!A39=\"No.\",\"\",(CLEAN(TRIM(Race!A39)))+0))","v":""},null,{"$f":"IF(C41<>\"\",Race!I39,\"\")","v":""},null,null,null,"","","","","","","","","",""]
[null,{"$f":"IF(Race!N40=\"\",\"\",IF(Race!A40=\"No.\",\"\",(CLEAN(TRIM(Race!A40)))+0))","v":""},null,{"$f":"IF(C42<>\"\",Race!I40,\"\")","v":""},null,null,null,"","","","","","","","","",""]
[null,{"$f":"IF(Race!N41=\"\",\"\",IF(Race!A41=\"No.\",\"\",(CLEAN(TRIM(Race!A41)))+0))","v":""},null,{"$f":"IF(C43<>\"\",Race!I41,\"\")","v":""},null,null,null,"","","","","","","","","",""]
[null,{"$f":"IF(Race!N42=\"\",\"\",IF(Race!A42=\"No.\",\"\",(CLEAN(TRIM(Race!A42)))+0))","v":""},null,{"$f":"IF(C44<>\"\",Race!I42,\"\")","v":""},null,null,null,"","","","","","","","","",""]
[null,{"$f":"IF(Race!N43=\"\",\"\",IF(Race!A43=\"No.\",\"\",(CLEAN(TRIM(Race!A43)))+0))","v":""},null,{"$f":"IF(C45<>\"\",Race!I43,\"\")","v":""},null,null,null,"","","","","","","","","",""]

{"sheet":"Meetings","index":1,"n_rows":23,"n_cols":16,"rows_kept":23,"cut":false,"hidden":false,"merged":[[1,0,1,2],[12,0,12,2],[7,0,7,2]]}
[]
["Races",null,null,1,2,3,4,5,6,7,8,9,10,11,12]
[null,"GRAFTON (NR)","Fields","8,3,7 ","3,1,12 ","1,11,3 ","1,6,4 ","11m F4","48m F4","4:00 F4","4:40 F4"]
[null,"WANGARATTA (VR)","Fields","1,13,5 ","3,10,5 ","9,11,1 ","6,10,13 ","9,11,5 F4","28m F4","3:40 F4","4:20 F4"]
[null,"FLAMINGO PARK (AS)","Fields",{"$nulls":4},"10:20:00","10:50:00","11:20:00","11:50:00","12:25am "]
[null,"UK (CS)","Fields","12:00am ","12:30am "]
[null,"WOLVERHAMPTON (ES)","Fields","12:15am ","12:45am "]
["Trots",null,null,1,2,3,4,5,6,7,8,9,10,11,12]
[null,"MENANGLE (ST)","Fields","2,6,1 ","8,2,3 ","7,9,4 ","Interim ","35m ","03:47:00","04:27:00","05:05:00"]
[null,"STAWELL (VT)","Fields","1,6,7 ","8,6,5 ","7,3,8 ","5m ","43m ","03:55:00","04:35:00"]
[null,"GLOBE DERBY (AT)","Fields","1,6,5 F4","1,6,3 F4","7,6,5 F4","18m F4","58m F4","4:10 F4","4:50 F4","5:24 F4"]
[null,"GLOUCESTER PARK (PT)","Fields","07:35:00","8:04 F4","08:33:00","9:05 F4","09:33:00","10:05 F4","10:35 F4","11:05:00","11:37:00"]
["Greyhounds",null,null,1,2,3,4,5,6,7,8,9,10,11,12]
[null,"ALBION PARK (BG)","Fields","6:41 F4","7:04 F4","7:24 F4","7:46 F4","8:09 F4","8:27 F4","8:47 F4","9:11 F4","9:30 F4","9:50 F4"]
[null,"BULLI (SG)","Fields","06:12:00","06:30:00","06:52:00","07:12:00","07:32:00","07:54:00","08:15:00","08:38:00","08:54:00","09:17:00"]
[null,"SHEPPARTON (MG)","Fields","06:05:00","06:26:00","06:48:00","07:08:00","07:28:00","07:50:00","08:12:00","08:30:00","08:50:00","09:14:00","09:38:00","09:55:00"]
[null,"BATHURST (NG)","Fields","39m ","03:35:00","03:52:00","04:15:00","04:32:00","04:56:00","05:12:00","05:30:00","05:48:00","06:09:00"]
[null,"CRANBOURNE (VG)","Fields","32m ","53m ","03:44:00","04:05:00","04:24:00","04:45:00","05:01:00","05:18:00","05:42:00","05:59:00","06:22:00","06:44:00"]
[null,"ANGLE PARK (AG)","Fields","5:36 F4","5:54 F4","6:16 F4","6:34 F4","6:56 F4","7:16 F4","7:40 F4","7:58 F4","8:19 F4","8:41 F4","8:57 F4"]
[null,"MANDURAH (PG)","Fields","09:00:00","09:20:00","09:42:00","10:00:00","10:15:00","10:30:00","10:45:00","11:00:00","11:17:00","11:32:00","11:47:00","12:07am ","12:22am "]
[null,"BALLARAT (EG)","Fields","3,4,5 ","1,5,4 ","3,4,8 ","1,5,7 ","2,7,1 ","5,7,6 ","5,2,6 ","2,7,3 ","5,3,6 ","6,2,7 ","1m ","24m "]
[null,"MANAWATU (ZG)","Fields","8,1,6 ","6,7,2 ","9,5,2 ","2,7,9 ","4,3,5 ","7,6,5 ","1,6,3 ","6,3,5 ","5,4,2 ","6,4,2 ","1,3,5 ","1,8,4 "]
[null,"LAUNCESTON (TG)","Fields","06:19:00","06:38:00","07:00:00","07:20:00","07:43:00","08:01:00","08:23:00","08:44:00","09:03:00","09:24:00","09:46:00"]

{"sheet":"Race","index":2,"n_rows":30,"n_cols":14,"rows_kept":30,"cut":false,"hidden":false,"merged":[]}
[]
["WANGARATTA",null,"VR 8","Jump","04:20:00"]
[null,null,null,"Odds","02:09:00"]
["20 Feb 2012","0 - 62 HANDICAP",null,null,"Fixed Price"]
["RADIO TAB","3-4-7","MAL JAMES","4-9-3","Late Mail 6","1600M","RAINING","HEAVY(9)"]
["No.",null,"Name","01:26:00","Win","Plc",null,"Rider  ","Bar","Wght",null,"Form","L3S","Rtng"]
[1,null,"AASHIQ",{"$nulls":4},"LATE SCRATCHING",2]
[2,null,"LORD OF THE SONG",19.899999999999999,13.2,3.9,null,"R WILLIAMS(A)",7,59,null,null,"22X",93]
[3,null,"MYTHICAL LAD",10.4,6.9,2.1,null,"N HALL",6,59,null,"D",311,99]
[4,null,"VINGE GRANDE",13.1,8.3000000000000007,2.1,null,"D MOOR",4,59,null,null,"X54",97]
[5,null,"LUMINOUS LAD",8.1999999999999993,5.9,3.1,null,"DEAN HOLLAND",8,58,null,"D",71,94]
[6,null,"PRUSSIAN DANCER",8,4.5999999999999996,1.4,null,"J DUFFY(A)",9,58,null,"WTC",250,98]
[7,null,"DASHFUL",21.7,12.8,4.2,null,"L CURRIE",5,57.5,null,"C",168,95]
[8,null,"CRISTIS GOLD",12.9,8.4,2.8,null,"N SOUQUET",12,57,null,"D",559,90]
[9,null,"LADY BARTON",11.7,7.1,2.8,null,"J FRY(A)",14,57,null,null,921,95]
[10,null,"WOMBAT WOO WOO",13.2,8.6999999999999993,2.8,null,"B EGAN",3,56.5,null,"D","X61",94]
[11,null,"PINSKI BELLE",{"$nulls":4},"LATE SCRATCHING",1]
[12,null,"WAIKATO CAT",{"$nulls":4},"SCRATCHED",11]
[13,null,"KARDINIA BELLE",{"$nulls":4},"SCRATCHED",10]
[14,null,"SURFCOAST RACER",{"$nulls":4},"LATE SCRATCHING",13]
[]
["UNiTAB Pool Totals"]
["WN",3559,"QN",382,"TF",621,"DD(7,8) "]
["PL",1857,"EX",169,"F4",33,"TT(6,7,8) "]
[null,null,"A2",136,null,null,"QD(5,6,7,8) "]
[]
["<< VR  1  2  3  4  5  6  7  8  DD/TT/QD  XD Riders  Fixed Price >>"]
[]
["Help","Gambling Advice","TAB Home","Refresh"]
["© Copyright UNiTAB Ltd","Created: Mon, 20 Feb 2012 14:28:52 Aust EST"]

{"sheet":"Selections","index":3,"n_rows":339,"n_cols":16,"rows_kept":339,"cut":false,"hidden":false,"merged":[[0,6,1,8]]}
["Race Venue",null,"1st Race No","Last Race No",null,"Web table"]
["WANGARATTA ",null,9,{"$f":"IF(ISNA(VLOOKUP(A2,Data1!$F$2:'Data1'!$U$100,16,FALSE)),\"\",VLOOKUP(A2,Data1!$F$2:'Data1'!$U$100,16,FALSE))","v":8},null,3]
[]
["Venue",null,"Race","No","Runner",null,"Barrier","Win Price"]
["GRAFTON ",null,1,7,"MUM'S CAT",null,1]
["GRAFTON ",null,2,6,"JEJUMAN",null,1]
["GRAFTON ",null,3,1,"FRENCH CHIMES",null,3,4.2]
["GRAFTON ",null,4,3,"BLUE MARINA",null,1]
["GRAFTON ",null,5,4,"LOTSAMOOLA",null,1]
["GRAFTON ",null,6,9,"DIADEM TRIST",null,1]
["GRAFTON ",null,7,14,"BAZZA'S PICK",null,1]
["GRAFTON ",null,8,1,"XAARMELODY",null,1]
["WANGARATTA ",null,1,7,"EMPRESARIO",null,2]
["WANGARATTA ",null,2,5,"THE PRODUCER",null,1]
["WANGARATTA ",null,3,1,"BOLLYWOOD BABE",null,1]
["WANGARATTA ",null,4,8,"STEP ABART",null,1]
["WANGARATTA ",null,5,4,"RONALD JOHN",null,1]
["WANGARATTA ",null,6,13,"OZENKADNOOK",null,1]
["WANGARATTA ",null,7,16,"REXARENA",null,2]
["WANGARATTA ",null,8,10,"WOMBAT WOO WOO",null,3]
{"$rows_empty":309}
[{"$nulls":12},{"$f":"IF(D330=\"\",\"\",D330&\". \"&E330)","v":""},{"$f":"IF(M330=\"\",\"\",A330)","v":""},{"$f":"IF(M330=\"\",\"\",C330)","v":""},{"$f":"IF(J330=\"\",\"\",J330)","v":""}]
[{"$nulls":12},"","","",""]
[{"$nulls":12},"","","",""]
[{"$nulls":12},"","","",""]
[{"$nulls":12},"","","",""]
[{"$nulls":12},"","","",""]
[{"$nulls":12},"","","",""]
[{"$nulls":12},"","","",""]
[{"$nulls":12},"","","",""]
[{"$nulls":12},"","","",""]

{"sheet":"Results","index":4,"n_rows":860,"n_cols":22,"rows_kept":860,"cut":false,"hidden":false,"merged":[]}
[{"$nulls":14},"Daily Results"]
["Start Bank","Current Bank","Outlay","Return","Profit/Loss","Bank%+/-","Selection","Wins","Strike Rate","A/Price",null,"POT",null,"Start Bank","Bet%","Profit Target%","Min Loss%","Stake","Profit Target","Min Loss","Profit","Profit%"]
[400,{"$f":"A3+E3","v":374.07000000000005},{"$f":"SUM(I5:I5000)","v":991},{"$f":"SUM(K5:K5000)","v":965.07},{"$f":"D3-C3","v":-25.92999999999995},{"$f":"E3/A3","v":-6.4824999999999869E-2},{"$f":"COUNT(I5:I5000)","v":71},{"$f":"COUNT(J5:J5000)","v":53},{"$f":"H3/G3","v":0.74647887323943662},{"$f":"SUM(L5:L5000)/H3","v":1.3585547141489076},null,{"$f":"E3/C3","v":-2.6165489404641726E-2},null,374.07,0.02,0.06,0.04,{"$f":"N3/1*O3","v":7.4813999999999998},{"$f":"(P3*N3)","v":22.444199999999999},{"$f":"0-(Q3*N3)","v":-14.9628},{"$f":"SUM(K72:K75)-SUM(I72:I75)","v":-43.730000000000004},{"$f":"U3/N3","v":-0.11690325340176974}]
["Date","Venue",null,"Race","No","Horse Name",null,null,"Stake","Profit",null,"Price","Bank"]
["2011-03-21","TERANG ",null,1,11,"BIANWAITING",null,null,10,4.9400000000000004,{"$f":"IF(J5=\"\",\"\",I5+J5)","v":14.940000000000001},{"$f":"IF(J5=\"\",\"\",(J5/I5)+1)","v":1.494},{"$f":"IF(I5=\"\",\"\",IF(J5=\"\",A3-I5,A3+J5))","v":404.94}]
[null,"ARMIDALE ",null,1,9,"SCARLETTS DREAM",null,null,10,null,{"$f":"IF(J6=\"\",\"\",I6+J6)","v":""},"",{"$f":"IF(I6=\"\",\"\",IF(J6=\"\",M5-I6,M5+J6))","v":394.94},null,null,{"$f":"IF(ISERROR(10*L5*L6),0,10*L5*L6)","v":0},{"$f":"P6-10","v":-10}]
[null,"TERANG ",null,2,9,"LINCOLN GREEN",null,null,10,5.22,15.219999999999999,1.522,{"$f":"IF(I7=\"\",\"\",IF(J7=\"\",M6-I7,M6+J7))","v":400.16},null,null,{"$f":"IF(ISERROR(10*L6*L7),0,10*L6*L7)","v":0},{"$f":"P7-10","v":-10}]
[null,"TERANG ",null,3,1,"ROCKFEST",null,null,10,1.23,11.23,1.123,{"$f":"IF(I8=\"\",\"\",IF(J8=\"\",M7-I8,M7+J8))","v":401.39000000000004},null,null,17.09206,7.09206]
[null,"TERANG ",null,4,8,"WEIGHTED",null,null,10,0.56999999999999995,10.57,1.0569999999999999,{"$f":"IF(I9=\"\",\"\",IF(J9=\"\",M8-I9,M8+J9))","v":401.96000000000004},null,null,11.87011,1.8701100000000004]
[null,"ARMIDALE ",null,4,2,"OBJECT OF VIRTUE",null,null,10,2.75,12.75,1.2749999999999999,{"$f":"IF(I10=\"\",\"\",IF(J10=\"\",M9-I10,M9+J10))","v":404.71000000000004},null,null,13.476749999999999,3.4767499999999991]
[null,"TERANG ",null,5,3,"TEL ONNAH",null,null,10,1.8,11.8,1.18,{"$f":"IF(I11=\"\",\"\",IF(J11=\"\",M10-I11,M10+J11))","v":406.51000000000005},null,null,15.045,5.0449999999999999]
["2011-03-22","SEYMOUR ",null,1,1,"CHEWING STEEL",null,null,10,0.76,10.76,1.0760000000000001,407.27000000000004,null,null,12.6968,2.6967999999999996]
[null,"SEYMOUR ",null,3,6,"BROWNEYEDHAWK",null,null,10,5.7,15.7,1.57,412.97,null,null,16.893200000000004,6.8932000000000038]
[null,"SEYMOUR ",null,5,2,"KURODA FIELD",null,null,10,4.75,14.75,1.4750000000000001,417.72,null,null,23.157500000000002,13.157500000000002]
["2011-03-23","SANDOWN ",null,2,8,"PRUSSIAN STORM",null,null,10,null,"","",407.72,null,null,0,-10]
[null,"SANDOWN ",null,3,6,"PRINCESS NARINE",null,null,10,2.1800000000000002,12.18,1.218,409.90000000000003,null,null,0,-10]
[null,"SANDOWN ",null,4,4,"MINOU",null,null,10,null,"","",399.90000000000003,null,null,0,-10]
[null,"SANDOWN ",null,5,13,"HARMONY",null,null,10,2.94,12.94,1.294,402.84000000000003,null,null,0,-10]
["2011-03-24","ALBURY ",null,2,11,"SLICK LINE",null,null,10,7.41,17.41,1.7410000000000001,410.25000000000006,null,null,22.528540000000003,12.528540000000003]
[null,"WYONG ",null,3,4,"MARIACHIS",null,null,10,6.17,16.170000000000002,1.617,416.42000000000007,null,null,28.151969999999999,18.151969999999999]
["2011-03-25","ALBURY ",null,1,1,"WHO'S PAYING",null,null,10,2.12,12.120000000000001,1.212,418.54000000000008,null,null,19.598040000000001,9.598040000000001]
[null,"GEELONG ",null,2,5,"BEL RHYTHM",null,null,10,1.52,11.52,1.1519999999999999,420.06000000000006,null,null,13.962239999999998,3.9622399999999978]
[null,"TAMWORTH ",null,3,4,"STRETCH",null,null,10,8.74,18.740000000000002,1.8740000000000001,428.80000000000007,null,null,21.588480000000001,11.588480000000001]
["2011-03-26","ROSEHILL ",null,3,1,"BRAZILIAN PULSE",null,null,10,1.9,11.9,1.19,430.70000000000005,null,null,22.300600000000003,12.300600000000003]
[null,"ROSEHILL ",null,4,1,"PANE IN THE GLASS",null,null,10,8.36,18.36,1.8359999999999999,439.06000000000006,null,null,21.848399999999994,11.848399999999994]
["2011-03-27","WELLINGTON ",null,1,4,"MEDICEAN PLANET",null,null,11,5.2,16.2,1.4727272727272727,444.26000000000005,null,null,27.039272727272724,17.039272727272724]
[null,"WANGARATTA ",null,2,11,"MAZIJ",null,null,11,null,"","",433.26000000000005,null,null,0,-10]
[null,"CRANBOURNE ",null,4,10,"ROCKSTARDOM",null,null,11,5.96,16.96,1.541818181818182,439.22,null,null,0,-10]
[null,"WELLINGTON ",null,2,5,"CONADILLY",null,null,11,2.5099999999999998,13.51,1.228181818181818,441.73,null,null,18.936330578512397,8.936330578512397]
[null,"WELLINGTON ",null,3,1,"ASTRAL FLYER",null,null,11,7.52,18.52,1.6836363636363636,449.25,null,null,20.678115702479339,10.678115702479339]
[null,"WELLINGTON ",null,4,5,"ACRYLIC",null,null,11,1.57,12.57,1.1427272727272728,450.82,null,null,19.239371900826448,9.2393719008264483]
["2011-03-28","ARARAT ",null,1,6,"CLASSIC MISTRESS",null,null,11,2.72,{"$f":"IF(J32=\"\",\"\",I32+J32)","v":13.72},{"$f":"IF(J32=\"\",\"\",(J32/I32)+1)","v":1.2472727272727273},{"$f":"IF(I32=\"\",\"\",IF(J32=\"\",M31-I32,M31+J32))","v":453.54},null,null,14.252925619834711,4.252925619834711]
[null,"ARARAT ",null,2,7,"SYLVAN SAFARI",null,null,11,6.48,17.48,1.5890909090909091,460.02000000000004,null,null,19.820297520661157,9.8202975206611569]
[null,"TAREE ",null,1,1,"ZIPPY ZARIZ",null,null,11,5.85,16.850000000000001,1.5318181818181817,465.87000000000006,null,null,24.341983471074379,14.341983471074379]
["2011-03-29","SALE ",null,1,14,"BUSTARINGER",null,null,11,5.0199999999999996,16.02,1.4563636363636363,470.89000000000004,null,null,22.308842975206609,12.308842975206609]
[null,"SCONE ",null,2,2,"HIATUS",null,null,11,null,"","",459.89000000000004,null,null,0,-10]
[null,"SALE ",null,4,3,"FRIEND",null,null,11,3.69,14.69,1.3354545454545454,463.58000000000004,null,null,0,-10]
[null,"SCONE ",null,3,12,"LA RUBY",null,null,11,null,"","",452.58000000000004,null,null,0,-10]
[null,"SCONE ",null,4,1,"CHARM'S HONOUR",null,null,11,1.36,12.36,1.1236363636363635,453.94000000000005,null,null,0,-10]
[null,"SCONE ",null,5,1,"CHATEAU FORT",null,null,11,7,18,1.6363636363636362,460.94000000000005,null,null,18.386776859504128,8.3867768595041277]
[null,"SALE ",null,7,1,"TUSKEGEE BOMBER",null,null,11,2.2999999999999998,13.3,1.209090909090909,463.24000000000007,null,null,19.785123966942148,9.7851239669421481]
[null,"SCONE ",null,6,4,"PARTY LEGS",null,null,11,6.9,17.899999999999999,1.6272727272727274,470.14000000000004,null,null,19.67520661157025,9.6752066115702497]
[null,"SCONE ",null,7,5,"ENTREE",null,null,11,null,"","",459.14000000000004,null,null,0,-10]
["2011-03-30","SANDOWN ",null,3,1,"GALLANT LADY",null,null,18,7.37,25.37,1.4094444444444445,466.51000000000005,null,null,{"$f":"IF(ISERROR(10*L43*L44),0,10*L43*L44)","v":0},{"$f":"P44-10","v":-10}]
[null,"RANDWICK ",null,5,2,"RIDING TO WIN",null,null,18,null,"","",448.51000000000005,null,null,0,-10]
[null,"SANDOWN ",null,5,10,"TANBY",null,null,18,3.93,21.93,1.2183333333333333,452.44000000000005,null,null,0,-10]
["2011-03-31","SEYMOUR ",null,2,9,"THE BLUES",null,null,18,4.96,22.96,1.2755555555555556,457.40000000000003,null,null,15.540518518518519,5.5405185185185193]
[null,"SEYMOUR ",null,3,14,"TIMBER CAT",null,null,18,4.79,22.79,1.2661111111111112,462.19000000000005,null,null,16.149950617283952,6.1499506172839524]
[null,"SEYMOUR ",null,6,6,"RIGHT OF REFUSAL",null,null,18,9.06,27.060000000000002,1.5033333333333334,471.25000000000006,null,null,19.033870370370373,9.0338703703703729]
["2011-04-01","MORNINGTON ",null,1,8,"SAINT ANGERS",null,null,19,0.72,19.72,1.0378947368421052,471.97000000000008,null,null,null,{"$f":"SUM(Q6:Q49)","v":95.398277440057143}]
[null,"MORNINGTON ",null,2,9,"BLUE LOTUS",null,null,19,1.08,20.079999999999998,1.0568421052631578,473.05000000000007]
[null,"MORNINGTON ",null,5,4,"MAGNIFICENT FORCE",null,null,19,3.97,22.97,1.2089473684210525,477.0200000000001]
[null,"CANBERRA ",null,4,1,"IN HIS HONOUR",null,null,19,null,"","",458.0200000000001]
[null,"MORNINGTON ",null,8,5,"ASSERTION",null,null,19,5.41,24.41,1.2847368421052632,463.43000000000012]
[null,"CANBERRA ",null,7,3,"DOUBLE CRESCENT",null,null,19,3.61,22.61,1.19,467.04000000000013]
[null,"MORNINGTON ",null,9,8,"HENGEST",null,null,19,10.65,29.65,1.5605263157894735,477.69000000000011]
[null,"CANBERRA ",null,8,5,"ANGELOS LUCKY BOY",null,null,19,null,"","",458.69000000000011]
["2011-04-02","ROSEHILL ",null,2,1,"RETRIEVE",null,null,18,null,"","",440.69000000000011]
[null,"ROSEHILL ",null,4,1,"BRAZILIAN PULSE",null,null,18,4.3,22.3,1.2388888888888889,444.99000000000012]
[null,"MOONEE VALLEY ",null,4,7,"LA PRALINE",null,null,18,3.25,21.25,1.1805555555555556,448.24000000000012]
[null,"OAKBANK ",null,5,7,"NEVZLIN",null,null,18,11.46,29.46,1.6366666666666667,459.7000000000001]
["2011-04-03","GUNDAGAI ",null,1,5,"ICE COLD CROWNIE",null,null,18,3.59,21.59,1.1994444444444445,463.29000000000008]
[null,"MILDURA ",null,2,4,"KING RODNEY",null,null,18,8.0399999999999991,26.04,1.4466666666666665,471.3300000000001]
[null,"GUNDAGAI ",null,2,1,"ARTY'S NOVERRE",null,null,18,5.47,23.47,1.3038888888888889,476.80000000000013]
["2011-04-04","WARRNAMBOOL ",null,2,5,"KERDEM",null,null,19,2.35,21.35,1.1236842105263158,479.15000000000015]
[null,"WARRNAMBOOL ",null,3,7,"LETTER FROM FRANCE",null,null,19,null,"","",460.15000000000015]
[null,"WARRNAMBOOL ",null,5,6,"SIDE SPLITTER",null,null,19,null,"","",441.15000000000015]
["2011-04-05","PAKENHAM ",null,1,7,"SHE LIKES TO ROCK",null,null,18,0.68,18.68,1.0377777777777777,441.83000000000015]
[null,"PAKENHAM ",null,5,4,"LOST CHORD",null,null,18,null,"","",423.83000000000015]
[null,"PAKENHAM ",null,6,4,"JUGARRI",null,null,18,11.97,29.97,1.665,435.80000000000018]
[null,"PAKENHAM ",null,7,4,"FIERYFLIRT",null,null,18,null,"","",417.80000000000018]
["2011-04-06","SANDOWN ",null,2,2,"PAY THE ACES",null,null,17,null,"","",400.80000000000018]
[null,"SANDOWN ",null,3,9,"CATGOTYOURTONGUE",null,null,17,null,"","",383.80000000000018]
[null,"GOULBURN ",null,2,3,"ALSHAIN",null,null,17,7.27,24.27,1.4276470588235295,391.07000000000016]
[null,"DUBBO ",null,2,1,"CALPE",null,null,17,null,"","",374.07000000000016]
[{"$nulls":10},"","",""]
[{"$nulls":10},"","",""]
[{"$nulls":10},"","",""]
[{"$nulls":10},"","",""]
[{"$nulls":10},"","",""]
[{"$nulls":10},"","",""]
[{"$nulls":10},"","",""]
[{"$nulls":10},"","",""]
[{"$nulls":10},"","",""]
[{"$nulls":10},"","",""]
[{"$nulls":10},"","",""]
[{"$nulls":10},"","",""]
[{"$nulls":10},"","",""]
[{"$nulls":10},"","",""]
[{"$nulls":10},"","",""]
[{"$nulls":10},"","",""]
[{"$nulls":10},"","",""]
[{"$nulls":10},"","",""]
[{"$nulls":10},"","",""]
[{"$nulls":10},"","",""]
[{"$nulls":10},{"$f":"IF(J96=\"\",\"\",I96+J96)","v":""},{"$f":"IF(J96=\"\",\"\",(J96/I96)+1)","v":""},{"$f":"IF(I96=\"\",\"\",IF(J96=\"\",M95-I96,M95+J96))","v":""}]
[{"$nulls":10},"","",""]
[{"$nulls":10},"","",""]
[{"$nulls":10},"","",""]
[{"$nulls":10},"","",""]
[{"$nulls":10},"","",""]
[{"$nulls":10},"","",""]
[{"$nulls":10},"","",""]
[{"$nulls":10},"","",""]
[{"$nulls":10},"","",""]
[{"$nulls":10},"","",""]
[{"$nulls":10},"","",""]
[{"$nulls":10},"","",""]
[{"$nulls":10},"","",""]
[{"$nulls":10},"","",""]
[{"$nulls":10},"","",""]
[{"$nulls":10},"","",""]
[{"$nulls":10},"","",""]
[{"$nulls":10},"","",""]
[{"$nulls":10},"","",""]
[{"$nulls":10},"","",""]
[{"$nulls":10},"","",""]
[{"$nulls":10},"","",""]
[{"$nulls":10},"","",""]
[{"$nulls":10},"","",""]
[{"$nulls":10},"","",""]
[{"$nulls":10},"","",""]
[{"$nulls":10},"","",""]
[{"$nulls":10},"","",""]
[{"$nulls":10},"","",""]
[{"$nulls":10},"","",""]
[{"$nulls":10},"","",""]
[{"$nulls":10},"","",""]
[{"$nulls":10},"","",""]
[{"$nulls":10},"","",""]
[{"$nulls":10},"","",""]
[{"$nulls":10},"","",""]
[{"$nulls":10},"","",""]
[{"$nulls":10},"","",""]
[{"$nulls":10},"","",""]
[{"$nulls":10},"","",""]
[{"$nulls":10},"","",""]
[{"$nulls":10},"","",""]
[{"$nulls":10},"","",""]
[{"$nulls":10},"","",""]
[{"$nulls":10},"","",""]
[{"$nulls":10},"","",""]
[{"$nulls":10},"","",""]
[{"$nulls":10},"","",""]
[{"$nulls":10},"","",""]
[{"$nulls":10},"","",""]
[{"$nulls":10},"","",""]
[{"$nulls":10},"","",""]
[{"$nulls":10},"","",""]
[{"$nulls":10},"","",""]
[{"$nulls":10},"","",""]
[{"$nulls":10},"","",""]
[{"$nulls":10},"","",""]
[{"$nulls":10},"","",""]
[{"$nulls":10},"","",""]
[{"$nulls":10},"","",""]
[{"$nulls":10},"","",""]
[{"$nulls":10},"","",""]
[{"$nulls":10},"","",""]
[{"$nulls":10},{"$f":"IF(J160=\"\",\"\",I160+J160)","v":""},{"$f":"IF(J160=\"\",\"\",(J160/I160)+1)","v":""},{"$f":"IF(I160=\"\",\"\",IF(J160=\"\",M159-I160,M159+J160))","v":""}]
[{"$nulls":10},"","",""]
[{"$nulls":10},"","",""]
[{"$nulls":10},"","",""]
[{"$nulls":10},"","",""]
[{"$nulls":10},"","",""]
[{"$nulls":10},"","",""]
[{"$nulls":10},"","",""]
[{"$nulls":10},"","",""]
[{"$nulls":10},"","",""]
[{"$nulls":10},"","",""]
[{"$nulls":10},"","",""]
[{"$nulls":10},"","",""]
[{"$nulls":10},"","",""]
[{"$nulls":10},"","",""]
[{"$nulls":10},"","",""]
[{"$nulls":10},"","",""]
[{"$nulls":10},"","",""]
[{"$nulls":10},"","",""]
[{"$nulls":10},"","",""]
[{"$nulls":10},"","",""]
[{"$nulls":10},"","",""]
[{"$nulls":10},"","",""]
[{"$nulls":10},"","",""]
[{"$nulls":10},"","",""]
[{"$nulls":10},"","",""]
[{"$nulls":10},"","",""]
[{"$nulls":10},"","",""]
[{"$nulls":10},"","",""]
[{"$nulls":10},"","",""]
[{"$nulls":10},"","",""]
[{"$nulls":10},"","",""]
[{"$nulls":10},"","",""]
[{"$nulls":10},"","",""]
[{"$nulls":10},"","",""]
[{"$nulls":10},"","",""]
[{"$nulls":10},"","",""]
[{"$nulls":10},"","",""]
[{"$nulls":10},"","",""]
[{"$nulls":10},"","",""]
[{"$nulls":10},"","",""]
[{"$nulls":10},"","",""]
[{"$nulls":10},"","",""]
[{"$nulls":10},"","",""]
[{"$nulls":10},"","",""]
[{"$nulls":10},"","",""]
[{"$nulls":10},"","",""]
[{"$nulls":10},"","",""]
[{"$nulls":10},"","",""]
[{"$nulls":10},"","",""]
[{"$nulls":10},"","",""]
[{"$nulls":10},"","",""]
[{"$nulls":10},"","",""]
[{"$nulls":10},"","",""]
[{"$nulls":10},"","",""]
[{"$nulls":10},"","",""]
[{"$nulls":10},"","",""]
[{"$nulls":10},"","",""]
[{"$nulls":10},"","",""]
[{"$nulls":10},"","",""]
[{"$nulls":10},"","",""]
[{"$nulls":10},"","",""]
[{"$nulls":10},"","",""]
[{"$nulls":10},"","",""]
[{"$nulls":10},{"$f":"IF(J224=\"\",\"\",I224+J224)","v":""},{"$f":"IF(J224=\"\",\"\",(J224/I224)+1)","v":""},{"$f":"IF(I224=\"\",\"\",IF(J224=\"\",M223-I224,M223+J224))","v":""}]
[{"$nulls":10},"","",""]
[{"$nulls":10},"","",""]
[{"$nulls":10},"","",""]
[{"$nulls":10},"","",""]
[{"$nulls":10},"","",""]
[{"$nulls":10},"","",""]
[{"$nulls":10},"","",""]
[{"$nulls":10},"","",""]
[{"$nulls":10},"","",""]
[{"$nulls":10},"","",""]
[{"$nulls":10},"","",""]
[{"$nulls":10},"","",""]
[{"$nulls":10},"","",""]
[{"$nulls":10},"","",""]
[{"$nulls":10},"","",""]
[{"$nulls":10},"","",""]
[{"$nulls":10},"","",""]
[{"$nulls":10},"","",""]
[{"$nulls":10},"","",""]
[{"$nulls":10},"","",""]
[{"$nulls":10},"","",""]
[{"$nulls":10},"","",""]
[{"$nulls":10},"","",""]
[{"$nulls":10},"","",""]
[{"$nulls":10},"","",""]
[{"$nulls":10},"","",""]
[{"$nulls":10},"","",""]
[{"$nulls":10},"","",""]
[{"$nulls":10},"","",""]
[{"$nulls":10},"","",""]
[{"$nulls":10},"","",""]
[{"$nulls":10},"","",""]
[{"$nulls":10},"","",""]
[{"$nulls":10},"","",""]
[{"$nulls":10},"","",""]
[{"$nulls":10},"","",""]
[{"$nulls":10},"","",""]
[{"$nulls":10},"","",""]
[{"$nulls":10},"","",""]
[{"$nulls":10},"","",""]
[{"$nulls":10},"","",""]
[{"$nulls":10},"","",""]
[{"$nulls":10},"","",""]
[{"$nulls":10},"","",""]
[{"$nulls":10},"","",""]
[{"$nulls":10},"","",""]
[{"$nulls":10},"","",""]
[{"$nulls":10},"","",""]
[{"$nulls":10},"","",""]
[{"$nulls":10},"","",""]
[{"$nulls":10},"","",""]
[{"$nulls":10},"","",""]
[{"$nulls":10},"","",""]
[{"$nulls":10},"","",""]
[{"$nulls":10},"","",""]
[{"$nulls":10},"","",""]
[{"$nulls":10},"","",""]
[{"$nulls":10},"","",""]
[{"$nulls":10},"","",""]
[{"$nulls":10},"","",""]
[{"$nulls":10},"","",""]
[{"$nulls":10},"","",""]
[{"$nulls":10},"","",""]
[{"$nulls":10},{"$f":"IF(J288=\"\",\"\",I288+J288)","v":""},{"$f":"IF(J288=\"\",\"\",(J288/I288)+1)","v":""},{"$f":"IF(I288=\"\",\"\",IF(J288=\"\",M287-I288,M287+J288))","v":""}]
[{"$nulls":10},"","",""]
[{"$nulls":10},"","",""]
[{"$nulls":10},"","",""]
[{"$nulls":10},"","",""]
[{"$nulls":10},"","",""]
[{"$nulls":10},"","",""]
[{"$nulls":10},"","",""]
[{"$nulls":10},"","",""]
[{"$nulls":10},"","",""]
[{"$nulls":10},"","",""]
[{"$nulls":10},"","",""]
[{"$nulls":10},"","",""]
[{"$nulls":10},"","",""]
[{"$nulls":10},"","",""]
[{"$nulls":10},"","",""]
[{"$nulls":10},"","",""]
[{"$nulls":10},"","",""]
[{"$nulls":10},"","",""]
[{"$nulls":10},"","",""]
[{"$nulls":10},"","",""]
[{"$nulls":10},"","",""]
[{"$nulls":10},"","",""]
[{"$nulls":10},"","",""]
[{"$nulls":10},"","",""]
[{"$nulls":10},"","",""]
[{"$nulls":10},"","",""]
[{"$nulls":10},"","",""]
[{"$nulls":10},"","",""]
[{"$nulls":10},"","",""]
[{"$nulls":10},"","",""]
[{"$nulls":10},"","",""]
[{"$nulls":10},"","",""]
[{"$nulls":10},"","",""]
[{"$nulls":10},"","",""]
[{"$nulls":10},"","",""]
[{"$nulls":10},"","",""]
[{"$nulls":10},"","",""]
[{"$nulls":10},"","",""]
[{"$nulls":10},"","",""]
[{"$nulls":10},"","",""]
[{"$nulls":10},"","",""]
[{"$nulls":10},"","",""]
[{"$nulls":10},"","",""]
[{"$nulls":10},"","",""]
[{"$nulls":10},"","",""]
[{"$nulls":10},"","",""]
[{"$nulls":10},"","",""]
[{"$nulls":10},"","",""]
[{"$nulls":10},"","",""]
[{"$nulls":10},"","",""]
[{"$nulls":10},"","",""]
[{"$nulls":10},"","",""]
[{"$nulls":10},"","",""]
[{"$nulls":10},"","",""]
[{"$nulls":10},"","",""]
[{"$nulls":10},"","",""]
[{"$nulls":10},"","",""]
[{"$nulls":10},"","",""]
[{"$nulls":10},"","",""]
[{"$nulls":10},"","",""]
[{"$nulls":10},"","",""]
[{"$nulls":10},"","",""]
[{"$nulls":10},"","",""]
[{"$nulls":10},{"$f":"IF(J352=\"\",\"\",I352+J352)","v":""},{"$f":"IF(J352=\"\",\"\",(J352/I352)+1)","v":""},{"$f":"IF(I352=\"\",\"\",IF(J352=\"\",M351-I352,M351+J352))","v":""}]
[{"$nulls":10},"","",""]
[{"$nulls":10},"","",""]
[{"$nulls":10},"","",""]
[{"$nulls":10},"","",""]
[{"$nulls":10},"","",""]
[{"$nulls":10},"","",""]
[{"$nulls":10},"","",""]
[{"$nulls":10},"","",""]
[{"$nulls":10},"","",""]
[{"$nulls":10},"","",""]
[{"$nulls":10},"","",""]
[{"$nulls":10},"","",""]
[{"$nulls":10},"","",""]
[{"$nulls":10},"","",""]
[{"$nulls":10},"","",""]
[{"$nulls":10},"","",""]
[{"$nulls":10},"","",""]
[{"$nulls":10},"","",""]
[{"$nulls":10},"","",""]
[{"$nulls":10},"","",""]
[{"$nulls":10},"","",""]
[{"$nulls":10},"","",""]
[{"$nulls":10},"","",""]
[{"$nulls":10},"","",""]
[{"$nulls":10},"","",""]
[{"$nulls":10},"","",""]
[{"$nulls":10},"","",""]
[{"$nulls":10},"","",""]
[{"$nulls":10},"","",""]
[{"$nulls":10},"","",""]
[{"$nulls":10},"","",""]
[{"$nulls":10},"","",""]
[{"$nulls":10},"","",""]
[{"$nulls":10},"","",""]
[{"$nulls":10},"","",""]
[{"$nulls":10},"","",""]
[{"$nulls":10},"","",""]
[{"$nulls":10},"","",""]
[{"$nulls":10},"","",""]
[{"$nulls":10},"","",""]
[{"$nulls":10},"","",""]
[{"$nulls":10},"","",""]
[{"$nulls":10},"","",""]
[{"$nulls":10},"","",""]
[{"$nulls":10},"","",""]
[{"$nulls":10},"","",""]
[{"$nulls":10},"","",""]
[{"$nulls":10},"","",""]
[{"$nulls":10},"","",""]
[{"$nulls":10},"","",""]
[{"$nulls":10},"","",""]
[{"$nulls":10},"","",""]
[{"$nulls":10},"","",""]
[{"$nulls":10},"","",""]
[{"$nulls":10},"","",""]
[{"$nulls":10},"","",""]
[{"$nulls":10},"","",""]
[{"$nulls":10},"","",""]
[{"$nulls":10},"","",""]
[{"$nulls":10},"","",""]
[{"$nulls":10},"","",""]
[{"$nulls":10},"","",""]
[{"$nulls":10},"","",""]
[{"$nulls":10},{"$f":"IF(J416=\"\",\"\",I416+J416)","v":""},{"$f":"IF(J416=\"\",\"\",(J416/I416)+1)","v":""},{"$f":"IF(I416=\"\",\"\",IF(J416=\"\",M415-I416,M415+J416))","v":""}]
[{"$nulls":10},"","",""]
[{"$nulls":10},"","",""]
[{"$nulls":10},"","",""]
[{"$nulls":10},"","",""]
[{"$nulls":10},"","",""]
[{"$nulls":10},"","",""]
[{"$nulls":10},"","",""]
[{"$nulls":10},"","",""]
[{"$nulls":10},"","",""]
[{"$nulls":10},"","",""]
[{"$nulls":10},"","",""]
[{"$nulls":10},"","",""]
[{"$nulls":10},"","",""]
[{"$nulls":10},"","",""]
[{"$nulls":10},"","",""]
[{"$nulls":10},"","",""]
[{"$nulls":10},"","",""]
[{"$nulls":10},"","",""]
[{"$nulls":10},"","",""]
[{"$nulls":10},"","",""]
[{"$nulls":10},"","",""]
[{"$nulls":10},"","",""]
[{"$nulls":10},"","",""]
[{"$nulls":10},"","",""]
[{"$nulls":10},"","",""]
[{"$nulls":10},"","",""]
[{"$nulls":10},"","",""]
[{"$nulls":10},"","",""]
[{"$nulls":10},"","",""]
[{"$nulls":10},"","",""]
[{"$nulls":10},"","",""]
[{"$nulls":10},"","",""]
[{"$nulls":10},"","",""]
[{"$nulls":10},"","",""]
[{"$nulls":10},"","",""]
[{"$nulls":10},"","",""]
[{"$nulls":10},"","",""]
[{"$nulls":10},"","",""]
[{"$nulls":10},"","",""]
[{"$nulls":10},"","",""]
[{"$nulls":10},"","",""]
[{"$nulls":10},"","",""]
[{"$nulls":10},"","",""]
[{"$nulls":10},"","",""]
[{"$nulls":10},"","",""]
[{"$nulls":10},"","",""]
[{"$nulls":10},"","",""]
[{"$nulls":10},"","",""]
[{"$nulls":10},"","",""]
[{"$nulls":10},"","",""]
[{"$nulls":10},"","",""]
[{"$nulls":10},"","",""]
[{"$nulls":10},"","",""]
[{"$nulls":10},"","",""]
[{"$nulls":10},"","",""]
[{"$nulls":10},"","",""]
[{"$nulls":10},"","",""]
[{"$nulls":10},"","",""]
[{"$nulls":10},"","",""]
[{"$nulls":10},"","",""]
[{"$nulls":10},"","",""]
[{"$nulls":10},"","",""]
[{"$nulls":10},"","",""]
[{"$nulls":10},{"$f":"IF(J480=\"\",\"\",I480+J480)","v":""},{"$f":"IF(J480=\"\",\"\",(J480/I480)+1)","v":""},{"$f":"IF(I480=\"\",\"\",IF(J480=\"\",M479-I480,M479+J480))","v":""}]
[{"$nulls":10},"","",""]
[{"$nulls":10},"","",""]
[{"$nulls":10},"","",""]
[{"$nulls":10},"","",""]
[{"$nulls":10},"","",""]
[{"$nulls":10},"","",""]
[{"$nulls":10},"","",""]
[{"$nulls":10},"","",""]
[{"$nulls":10},"","",""]
[{"$nulls":10},"","",""]
[{"$nulls":10},"","",""]
[{"$nulls":10},"","",""]
[{"$nulls":10},"","",""]
[{"$nulls":10},"","",""]
[{"$nulls":10},"","",""]
[{"$nulls":10},"","",""]
[{"$nulls":10},"","",""]
[{"$nulls":10},"","",""]
[{"$nulls":10},"","",""]
[{"$nulls":10},"","",""]
[{"$nulls":10},"","",""]
[{"$nulls":10},"","",""]
[{"$nulls":10},"","",""]
[{"$nulls":10},"","",""]
[{"$nulls":10},"","",""]
[{"$nulls":10},"","",""]
[{"$nulls":10},"","",""]
[{"$nulls":10},"","",""]
[{"$nulls":10},"","",""]
[{"$nulls":10},"","",""]
[{"$nulls":10},"","",""]
[{"$nulls":10},"","",""]
[{"$nulls":10},"","",""]
[{"$nulls":10},"","",""]
[{"$nulls":10},"","",""]
[{"$nulls":10},"","",""]
[{"$nulls":10},"","",""]
[{"$nulls":10},"","",""]
[{"$nulls":10},"","",""]
[{"$nulls":10},"","",""]
[{"$nulls":10},"","",""]
[{"$nulls":10},"","",""]
[{"$nulls":10},"","",""]
[{"$nulls":10},"","",""]
[{"$nulls":10},"","",""]
[{"$nulls":10},"","",""]
[{"$nulls":10},"","",""]
[{"$nulls":10},"","",""]
[{"$nulls":10},"","",""]
[{"$nulls":10},"","",""]
[{"$nulls":10},"","",""]
[{"$nulls":10},"","",""]
[{"$nulls":10},"","",""]
[{"$nulls":10},"","",""]
[{"$nulls":10},"","",""]
[{"$nulls":10},"","",""]
[{"$nulls":10},"","",""]
[{"$nulls":10},"","",""]
[{"$nulls":10},"","",""]
[{"$nulls":10},"","",""]
[{"$nulls":10},"","",""]
[{"$nulls":10},"","",""]
[{"$nulls":10},"","",""]
[{"$nulls":10},{"$f":"IF(J544=\"\",\"\",I544+J544)","v":""},{"$f":"IF(J544=\"\",\"\",(J544/I544)+1)","v":""},{"$f":"IF(I544=\"\",\"\",IF(J544=\"\",M543-I544,M543+J544))","v":""}]
[{"$nulls":10},"","",""]
[{"$nulls":10},"","",""]
[{"$nulls":10},"","",""]
[{"$nulls":10},"","",""]
[{"$nulls":10},"","",""]
[{"$nulls":10},"","",""]
[{"$nulls":10},"","",""]
[{"$nulls":10},"","",""]
[{"$nulls":10},"","",""]
[{"$nulls":10},"","",""]
[{"$nulls":10},"","",""]
[{"$nulls":10},"","",""]
[{"$nulls":10},"","",""]
[{"$nulls":10},"","",""]
[{"$nulls":10},"","",""]
[{"$nulls":10},"","",""]
[{"$nulls":10},"","",""]
[{"$nulls":10},"","",""]
[{"$nulls":10},"","",""]
[{"$nulls":10},"","",""]
[{"$nulls":10},"","",""]
[{"$nulls":10},"","",""]
[{"$nulls":10},"","",""]
[{"$nulls":10},"","",""]
[{"$nulls":10},"","",""]
[{"$nulls":10},"","",""]
[{"$nulls":10},"","",""]
[{"$nulls":10},"","",""]
[{"$nulls":10},"","",""]
[{"$nulls":10},"","",""]
[{"$nulls":10},"","",""]
[{"$nulls":10},"","",""]
[{"$nulls":10},"","",""]
[{"$nulls":10},"","",""]
[{"$nulls":10},"","",""]
[{"$nulls":10},"","",""]
[{"$nulls":10},"","",""]
[{"$nulls":10},"","",""]
[{"$nulls":10},"","",""]
[{"$nulls":10},"","",""]
[{"$nulls":10},"","",""]
[{"$nulls":10},"","",""]
[{"$nulls":10},"","",""]
[{"$nulls":10},"","",""]
[{"$nulls":10},"","",""]
[{"$nulls":10},"","",""]
[{"$nulls":10},"","",""]
[{"$nulls":10},"","",""]
[{"$nulls":10},"","",""]
[{"$nulls":10},"","",""]
[{"$nulls":10},"","",""]
[{"$nulls":10},"","",""]
[{"$nulls":10},"","",""]
[{"$nulls":10},"","",""]
[{"$nulls":10},"","",""]
[{"$nulls":10},"","",""]
[{"$nulls":10},"","",""]
[{"$nulls":10},"","",""]
[{"$nulls":10},"","",""]
[{"$nulls":10},"","",""]
[{"$nulls":10},"","",""]
[{"$nulls":10},"","",""]
[{"$nulls":10},"","",""]
[{"$nulls":10},{"$f":"IF(J608=\"\",\"\",I608+J608)","v":""},{"$f":"IF(J608=\"\",\"\",(J608/I608)+1)","v":""},{"$f":"IF(I608=\"\",\"\",IF(J608=\"\",M607-I608,M607+J608))","v":""}]
[{"$nulls":10},"","",""]
[{"$nulls":10},"","",""]
[{"$nulls":10},"","",""]
[{"$nulls":10},"","",""]
[{"$nulls":10},"","",""]
[{"$nulls":10},"","",""]
[{"$nulls":10},"","",""]
[{"$nulls":10},"","",""]
[{"$nulls":10},"","",""]
[{"$nulls":10},"","",""]
[{"$nulls":10},"","",""]
[{"$nulls":10},"","",""]
[{"$nulls":10},"","",""]
[{"$nulls":10},"","",""]
[{"$nulls":10},"","",""]
[{"$nulls":10},"","",""]
[{"$nulls":10},"","",""]
[{"$nulls":10},"","",""]
[{"$nulls":10},"","",""]
[{"$nulls":10},"","",""]
[{"$nulls":10},"","",""]
[{"$nulls":10},"","",""]
[{"$nulls":10},"","",""]
[{"$nulls":10},"","",""]
[{"$nulls":10},"","",""]
[{"$nulls":10},"","",""]
[{"$nulls":10},"","",""]
[{"$nulls":10},"","",""]
[{"$nulls":10},"","",""]
[{"$nulls":10},"","",""]
[{"$nulls":10},"","",""]
[{"$nulls":10},"","",""]
[{"$nulls":10},"","",""]
[{"$nulls":10},"","",""]
[{"$nulls":10},"","",""]
[{"$nulls":10},"","",""]
[{"$nulls":10},"","",""]
[{"$nulls":10},"","",""]
[{"$nulls":10},"","",""]
[{"$nulls":10},"","",""]
[{"$nulls":10},"","",""]
[{"$nulls":10},"","",""]
[{"$nulls":10},"","",""]
[{"$nulls":10},"","",""]
[{"$nulls":10},"","",""]
[{"$nulls":10},"","",""]
[{"$nulls":10},"","",""]
[{"$nulls":10},"","",""]
[{"$nulls":10},"","",""]
[{"$nulls":10},"","",""]
[{"$nulls":10},"","",""]
[{"$nulls":10},"","",""]
[{"$nulls":10},"","",""]
[{"$nulls":10},"","",""]
[{"$nulls":10},"","",""]
[{"$nulls":10},"","",""]
[{"$nulls":10},"","",""]
[{"$nulls":10},"","",""]
[{"$nulls":10},"","",""]
[{"$nulls":10},"","",""]
[{"$nulls":10},"","",""]
[{"$nulls":10},"","",""]
[{"$nulls":10},"","",""]
[{"$nulls":10},{"$f":"IF(J672=\"\",\"\",I672+J672)","v":""},{"$f":"IF(J672=\"\",\"\",(J672/I672)+1)","v":""},{"$f":"IF(I672=\"\",\"\",IF(J672=\"\",M671-I672,M671+J672))","v":""}]
[{"$nulls":10},"","",""]
[{"$nulls":10},"","",""]
[{"$nulls":10},"","",""]
[{"$nulls":10},"","",""]
[{"$nulls":10},"","",""]
[{"$nulls":10},"","",""]
[{"$nulls":10},"","",""]
[{"$nulls":10},"","",""]
[{"$nulls":10},"","",""]
[{"$nulls":10},"","",""]
[{"$nulls":10},"","",""]
[{"$nulls":10},"","",""]
[{"$nulls":10},"","",""]
[{"$nulls":10},"","",""]
[{"$nulls":10},"","",""]
[{"$nulls":10},"","",""]
[{"$nulls":10},"","",""]
[{"$nulls":10},"","",""]
[{"$nulls":10},"","",""]
[{"$nulls":10},"","",""]
[{"$nulls":10},"","",""]
[{"$nulls":10},"","",""]
[{"$nulls":10},"","",""]
[{"$nulls":10},"","",""]
[{"$nulls":10},"","",""]
[{"$nulls":10},"","",""]
[{"$nulls":10},"","",""]
[{"$nulls":10},"","",""]
[{"$nulls":10},"","",""]
[{"$nulls":10},"","",""]
[{"$nulls":10},"","",""]
[{"$nulls":10},"","",""]
[{"$nulls":10},"","",""]
[{"$nulls":10},"","",""]
[{"$nulls":10},"","",""]
[{"$nulls":10},"","",""]
[{"$nulls":10},"","",""]
[{"$nulls":10},"","",""]
[{"$nulls":10},"","",""]
[{"$nulls":10},"","",""]
[{"$nulls":10},"","",""]
[{"$nulls":10},"","",""]
[{"$nulls":10},"","",""]
[{"$nulls":10},"","",""]
[{"$nulls":10},"","",""]
[{"$nulls":10},"","",""]
[{"$nulls":10},"","",""]
[{"$nulls":10},"","",""]
[{"$nulls":10},"","",""]
[{"$nulls":10},"","",""]
[{"$nulls":10},"","",""]
[{"$nulls":10},"","",""]
[{"$nulls":10},"","",""]
[{"$nulls":10},"","",""]
[{"$nulls":10},"","",""]
[{"$nulls":10},"","",""]
[{"$nulls":10},"","",""]
[{"$nulls":10},"","",""]
[{"$nulls":10},"","",""]
[{"$nulls":10},"","",""]
[{"$nulls":10},"","",""]
[{"$nulls":10},"","",""]
[{"$nulls":10},"","",""]
[{"$nulls":10},{"$f":"IF(J736=\"\",\"\",I736+J736)","v":""},{"$f":"IF(J736=\"\",\"\",(J736/I736)+1)","v":""},{"$f":"IF(I736=\"\",\"\",IF(J736=\"\",M735-I736,M735+J736))","v":""}]
[{"$nulls":10},"","",""]
[{"$nulls":10},"","",""]
[{"$nulls":10},"","",""]
[{"$nulls":10},"","",""]
[{"$nulls":10},"","",""]
[{"$nulls":10},"","",""]
[{"$nulls":10},"","",""]
[{"$nulls":10},"","",""]
[{"$nulls":10},"","",""]
[{"$nulls":10},"","",""]
[{"$nulls":10},"","",""]
[{"$nulls":10},"","",""]
[{"$nulls":10},"","",""]
[{"$nulls":10},"","",""]
[{"$nulls":10},"","",""]
[{"$nulls":10},"","",""]
[{"$nulls":10},"","",""]
[{"$nulls":10},"","",""]
[{"$nulls":10},"","",""]
[{"$nulls":10},"","",""]
[{"$nulls":10},"","",""]
[{"$nulls":10},"","",""]
[{"$nulls":10},"","",""]
[{"$nulls":10},"","",""]
[{"$nulls":10},"","",""]
[{"$nulls":10},"","",""]
[{"$nulls":10},"","",""]
[{"$nulls":10},"","",""]
[{"$nulls":10},"","",""]
[{"$nulls":10},"","",""]
[{"$nulls":10},"","",""]
[{"$nulls":10},"","",""]
[{"$nulls":10},"","",""]
[{"$nulls":10},"","",""]
[{"$nulls":10},"","",""]
[{"$nulls":10},"","",""]
[{"$nulls":10},"","",""]
[{"$nulls":10},"","",""]
[{"$nulls":10},"","",""]
[{"$nulls":10},"","",""]
[{"$nulls":10},"","",""]
[{"$nulls":10},"","",""]
[{"$nulls":10},"","",""]
[{"$nulls":10},"","",""]
[{"$nulls":10},"","",""]
[{"$nulls":10},"","",""]
[{"$nulls":10},"","",""]
[{"$nulls":10},"","",""]
[{"$nulls":10},"","",""]
[{"$nulls":10},"","",""]
[{"$nulls":10},"","",""]
[{"$nulls":10},"","",""]
[{"$nulls":10},"","",""]
[{"$nulls":10},"","",""]
[{"$nulls":10},"","",""]
[{"$nulls":10},"","",""]
[{"$nulls":10},"","",""]
[{"$nulls":10},"","",""]
[{"$nulls":10},"","",""]
[{"$nulls":10},"","",""]
[{"$nulls":10},"","",""]
[{"$nulls":10},"","",""]
[{"$nulls":10},"","",""]
[{"$nulls":10},{"$f":"IF(J800=\"\",\"\",I800+J800)","v":""},{"$f":"IF(J800=\"\",\"\",(J800/I800)+1)","v":""},{"$f":"IF(I800=\"\",\"\",IF(J800=\"\",M799-I800,M799+J800))","v":""}]
[{"$nulls":10},"","",""]
[{"$nulls":10},"","",""]
[{"$nulls":10},"","",""]
[{"$nulls":10},"","",""]
[{"$nulls":10},"","",""]
[{"$nulls":10},"","",""]
[{"$nulls":10},"","",""]
[{"$nulls":10},"","",""]
[{"$nulls":10},"","",""]
[{"$nulls":10},"","",""]
[{"$nulls":10},"","",""]
[{"$nulls":10},"","",""]
[{"$nulls":10},"","",""]
[{"$nulls":10},"","",""]
[{"$nulls":10},"","",""]
[{"$nulls":10},"","",""]
[{"$nulls":10},"","",""]
[{"$nulls":10},"","",""]
[{"$nulls":10},"","",""]
[{"$nulls":10},"","",""]
[{"$nulls":10},"","",""]
[{"$nulls":10},"","",""]
[{"$nulls":10},"","",""]
[{"$nulls":10},"","",""]
[{"$nulls":10},"","",""]
[{"$nulls":10},"","",""]
[{"$nulls":10},"","",""]
[{"$nulls":10},"","",""]
[{"$nulls":10},"","",""]
[{"$nulls":10},"","",""]
[{"$nulls":10},"","",""]
[{"$nulls":10},"","",""]
[{"$nulls":10},"","",""]
[{"$nulls":10},"","",""]
[{"$nulls":10},"","",""]
[{"$nulls":10},"","",""]
[{"$nulls":10},"","",""]
[{"$nulls":10},"","",""]
[{"$nulls":10},"","",""]
[{"$nulls":10},"","",""]
[{"$nulls":10},"","",""]
[{"$nulls":10},"","",""]
[{"$nulls":10},"","",""]
[{"$nulls":10},"","",""]
[{"$nulls":10},"","",""]
[{"$nulls":10},"","",""]
[{"$nulls":10},"","",""]
[{"$nulls":10},"","",""]
[{"$nulls":10},"","",""]
[{"$nulls":10},"","",""]
[{"$nulls":10},"","",""]
[{"$nulls":10},"","",""]
[{"$nulls":10},"","",""]
[{"$nulls":10},"","",""]
[{"$nulls":10},"","",""]
[{"$nulls":10},"","",""]
[{"$nulls":10},"","",""]
[{"$nulls":10},"","",""]
[{"$nulls":10},"","",""]
[{"$nulls":10},"","",""]